Workbook

Sheet Допущения
A1: Показатель | B1: Ед. изм. | C1: Комментарий | D1: Const | G1: Год 0 | H1: Год 1 | L1: Год 2 | P1: Год 3 | T1: Год 4
G2: 4-й кв. | H2: 1-й кв. | I2: 2-й кв. | J2: 3-й кв. | K2: 4-й кв. | L2: 1-й кв. | M2: 2-й кв. | N2: 3-й кв. | O2: 4-й кв. | P2: 1-й кв. | Q2: 2-й кв. | R2: 3-й кв. | S2: 4-й кв. | T2: 1-й кв. | U2: 2-й кв. | V2: 3-й кв. | W2: 4-й кв.
A4: Макроэкономические допущения
A5: Общая инфляция в РФ | B5: % | C5: по условию кейса: 7% год 1, 6% год 2, 5% далее | H5: 0.07 | I5: =H5 -> 0.07 | J5: =I5 -> 0.07 | K5: =J5 -> 0.07 | L5: 0.06 | M5: =L5 -> 0.06 | N5: =M5 -> 0.06 | O5: =N5 -> 0.06 | P5: 0.05 | Q5: =P5 -> 0.05 | R5: =Q5 -> 0.05 | S5: =R5 -> 0.05 | T5: =S5 -> 0.05 | U5: =T5 -> 0.05 | V5: =U5 -> 0.05 | W5: =V5 -> 0.05
A6: Темп общей инфляции | B6: % | C6: годовая инфляция / 4 (поквартальный темп) | H6: =H5/4 -> 0.0175 | I6: =I5/4 -> 0.0175 | J6: =J5/4 -> 0.0175 | K6: =K5/4 -> 0.0175 | L6: =L5/4 -> 0.015 | M6: =M5/4 -> 0.015 | N6: =N5/4 -> 0.015 | O6: =O5/4 -> 0.015 | ... W6: =W5/4 -> 0.0125
A7: Инфляция заработной платы | B7: % | C7: 8% годовых на всём горизонте | H7: 0.08 | I7: =H7 -> 0.08 | J7: =I7 -> 0.08 | K7: =J7 -> 0.08 | L7: =K7 -> 0.08 | M7: =L7 -> 0.08 | N7: =M7 -> 0.08 | O7: =N7 -> 0.08 | P7: =O7 -> 0.08 | ... W7: =V7 -> 0.08
A8: Темп инфляции заработной платы | B8: % | H8: =H7/4 -> 0.02 | I8: =I7/4 -> 0.02 | J8: =J7/4 -> 0.02 | K8: =K7/4 -> 0.02 | L8: =L7/4 -> 0.02 | M8: =M7/4 -> 0.02 | N8: =N7/4 -> 0.02 | O8: =O7/4 -> 0.02 | ... W8: =W7/4 -> 0.02
A9: Инфляция цены на пластик (в $) | B9: % | C9: задается на листе Сценарный анализ | H9: ='Сценарный анализ'!H7 -> 0.025 | I9: ='Сценарный анализ'!I7 -> 0.025 | J9: ='Сценарный анализ'!J7 -> 0.025 | K9: ='Сценарный анализ'!K7 -> 0.025 | L9: ='Сценарный анализ'!L7 -> 0.025 | M9: ='Сценарный анализ'!M7 -> 0.025 | N9: ='Сценарный анализ'!N7 -> 0.025 | O9: ='Сценарный анализ'!O7 -> 0.025 | ... W9: ='Сценарный анализ'!W7 -> 0.025
A10: Темп инфляции цены на пластик | B10: % | H10: =H9/4 -> 0.00625 | I10: =I9/4 -> 0.00625 | J10: =J9/4 -> 0.00625 | K10: =K9/4 -> 0.00625 | L10: =L9/4 -> 0.00625 | M10: =M9/4 -> 0.00625 | N10: =N9/4 -> 0.00625 | O10: =O9/4 -> 0.00625 | ... W10: =W9/4 -> 0.00625
A11: Курс доллара | B11: руб/$ | C11: рост курса — темп в D11 | D11: 0.005 | G11: 74 | H11: =G11*(1+$D$11) -> 74.37 | I11: =H11*(1+$D$11) -> 74.74185 | J11: =I11*(1+$D$11) -> 75.115559 | K11: =J11*(1+$D$11) -> 75.491137 | L11: =K11*(1+$D$11) -> 75.868593 | M11: =L11*(1+$D$11) -> 76.247936 | N11: =M11*(1+$D$11) -> 76.629175 | O11: =N11*(1+$D$11) -> 77.012321 | ... W11: =V11*(1+$D$11) -> 80.147265
A13: Объёмы производства
A14: Макеты | B14: кг | C14: макс. объем задается на листе Сценарный анализ; шаг +500 кг/кв., старт со 2 кв. года 1 | D14: ='Сценарный анализ'!$D$12 -> 3000 | G14: 0 | H14: 0 | I14: =MIN(H14+500,$D$14) -> 500 | J14: =MIN(I14+500,$D$14) -> 1000 | K14: =MIN(J14+500,$D$14) -> 1500 | L14: =MIN(K14+500,$D$14) -> 2000 | M14: =MIN(L14+500,$D$14) -> 2500 | N14: =MIN(M14+500,$D$14) -> 3000 | O14: =MIN(N14+500,$D$14) -> 3000 | P14: =MIN(O14+500,$D$14) -> 3000 | ... W14: =MIN(V14+500,$D$14) -> 3000
A15: Сувенирная продукция | B15: кг | C15: макс. объем задается на листе Сценарный анализ; шаг +50 кг/кв., старт со 2 кв. года 1 | D15: ='Сценарный анализ'!$D$17 -> 400 | G15: 0 | H15: 0 | I15: =MIN(H15+50,$D$15) -> 50 | J15: =MIN(I15+50,$D$15) -> 100 | K15: =MIN(J15+50,$D$15) -> 150 | L15: =MIN(K15+50,$D$15) -> 200 | M15: =MIN(L15+50,$D$15) -> 250 | N15: =MIN(M15+50,$D$15) -> 300 | O15: =MIN(N15+50,$D$15) -> 350 | P15: =MIN(O15+50,$D$15) -> 400 | ... W15: =MIN(V15+50,$D$15) -> 400
A17: Цены продукции
A18: Макеты | B18: руб/кг | C18: базовая цена задается на листе Анализ чувствительности, далее инфлируется | G18: ='Анализ чувствительности'!$C$3 -> 4000 | H18: =G18*(1+H$6) -> 4070 | I18: =H18*(1+I$6) -> 4141.225 | J18: =I18*(1+J$6) -> 4213.6964 | K18: =J18*(1+K$6) -> 4287.4361 | L18: =K18*(1+L$6) -> 4351.7477 | M18: =L18*(1+M$6) -> 4417.0239 | N18: =M18*(1+N$6) -> 4483.2792 | O18: =N18*(1+O$6) -> 4550.5284 | ... W18: =V18*(1+W$6) -> 5025.9954
A19: Сувенирная продукция | B19: руб/кг | C19: базовая цена задается на листе Анализ чувствительности, далее инфлируется | G19: ='Анализ чувствительности'!$C$7 -> 12000 | H19: =G19*(1+H$6) -> 12210 | I19: =H19*(1+I$6) -> 12423.675 | J19: =I19*(1+J$6) -> 12641.089 | K19: =J19*(1+K$6) -> 12862.308 | L19: =K19*(1+L$6) -> 13055.243 | M19: =L19*(1+M$6) -> 13251.072 | N19: =M19*(1+N$6) -> 13449.838 | O19: =N19*(1+O$6) -> 13651.585 | ... W19: =V19*(1+W$6) -> 15077.986
A21: Нормативы расхода
A22: Расход пластика на макет | B22: кг/кг | G22: 1.05 | H22: =G22 -> 1.05 | I22: =H22 -> 1.05 | J22: =I22 -> 1.05 | K22: =J22 -> 1.05 | L22: =K22 -> 1.05 | M22: =L22 -> 1.05 | N22: =M22 -> 1.05 | O22: =N22 -> 1.05 | ... W22: =V22 -> 1.05
A23: Расход пластика на сувенирную продукцию | B23: кг/кг | G23: 1.12 | H23: =G23 -> 1.12 | I23: =H23 -> 1.12 | J23: =I23 -> 1.12 | K23: =J23 -> 1.12 | L23: =K23 -> 1.12 | M23: =L23 -> 1.12 | N23: =M23 -> 1.12 | O23: =N23 -> 1.12 | ... W23: =V23 -> 1.12
A24: Расход электроэнергии на макет | B24: кВт*ч/кг | G24: 50 | H24: =G24 -> 50 | I24: =H24 -> 50 | J24: =I24 -> 50 | K24: =J24 -> 50 | L24: =K24 -> 50 | M24: =L24 -> 50 | N24: =M24 -> 50 | O24: =N24 -> 50 | ... W24: =V24 -> 50
A25: Расход электроэнергии на сувенирную продукцию | B25: кВт*ч/кг | G25: 200 | H25: =G25 -> 200 | I25: =H25 -> 200 | J25: =I25 -> 200 | K25: =J25 -> 200 | L25: =K25 -> 200 | M25: =L25 -> 200 | N25: =M25 -> 200 | O25: =N25 -> 200 | ... W25: =V25 -> 200
A26: Расход труда на макет (дизайн) | B26: чел-час/кг | G26: 0.5 | H26: =G26 -> 0.5 | I26: =H26 -> 0.5 | J26: =I26 -> 0.5 | K26: =J26 -> 0.5 | L26: =K26 -> 0.5 | M26: =L26 -> 0.5 | N26: =M26 -> 0.5 | O26: =N26 -> 0.5 | ... W26: =V26 -> 0.5
A27: Расход труда на сувенирную продукцию (дизайн) | B27: чел-час/кг | G27: 1.25 | H27: =G27 -> 1.25 | I27: =H27 -> 1.25 | J27: =I27 -> 1.25 | K27: =J27 -> 1.25 | L27: =K27 -> 1.25 | M27: =L27 -> 1.25 | N27: =M27 -> 1.25 | O27: =N27 -> 1.25 | ... W27: =V27 -> 1.25
A28: Расход труда на макет (обработка) | B28: чел-час/кг | G28: 0.1 | H28: =G28 -> 0.1 | I28: =H28 -> 0.1 | J28: =I28 -> 0.1 | K28: =J28 -> 0.1 | L28: =K28 -> 0.1 | M28: =L28 -> 0.1 | N28: =M28 -> 0.1 | O28: =N28 -> 0.1 | ... W28: =V28 -> 0.1
A29: Расход труда на сувенирную продукцию (обработка) | B29: чел-час/кг | G29: 1.5 | H29: =G29 -> 1.5 | I29: =H29 -> 1.5 | J29: =I29 -> 1.5 | K29: =J29 -> 1.5 | L29: =K29 -> 1.5 | M29: =L29 -> 1.5 | N29: =M29 -> 1.5 | O29: =N29 -> 1.5 | ... W29: =V29 -> 1.5
A30: Стоимость прочих материалов и работ на макет | B30: руб/кг | C30: инфлируется темпом общей инфляции | G30: 250 | H30: =G30*(1+H$6) -> 254.375 | I30: =H30*(1+I$6) -> 258.82656 | J30: =I30*(1+J$6) -> 263.35603 | K30: =J30*(1+K$6) -> 267.96476 | L30: =K30*(1+L$6) -> 271.98423 | M30: =L30*(1+M$6) -> 276.06399 | N30: =M30*(1+N$6) -> 280.20495 | O30: =N30*(1+O$6) -> 284.40803 | ... W30: =V30*(1+W$6) -> 314.12471
A31: Стоимость прочих материалов и работ на сувенирную продукцию | B31: руб/кг | C31: инфлируется темпом общей инфляции | G31: 600 | H31: =G31*(1+H$6) -> 610.5 | I31: =H31*(1+I$6) -> 621.18375 | J31: =I31*(1+J$6) -> 632.05447 | K31: =J31*(1+K$6) -> 643.11542 | L31: =K31*(1+L$6) -> 652.76215 | M31: =L31*(1+M$6) -> 662.55358 | N31: =M31*(1+N$6) -> 672.49189 | O31: =N31*(1+O$6) -> 682.57926 | ... W31: =V31*(1+W$6) -> 753.89931
A33: Себестоимость
A34: Стоимость пластика для макета (ABS) | B34: руб/кг | C34: $-инфляция сырья x рост курса $ | G34: 1500 | H34: =G34*(1+H$10)*(H$11/G$11) -> 1516.9219 | I34: =H34*(1+I$10)*(I$11/H$11) -> 1534.0346 | J34: =I34*(1+J$10)*(J$11/I$11) -> 1551.3405 | K34: =J34*(1+K$10)*(K$11/J$11) -> 1568.8415 | L34: =K34*(1+L$10)*(L$11/K$11) -> 1586.54 | M34: =L34*(1+M$10)*(M$11/L$11) -> 1604.4382 | N34: =M34*(1+N$10)*(N$11/M$11) -> 1622.5383 | O34: =N34*(1+O$10)*(O$11/N$11) -> 1640.8425 | ... W34: =V34*(1+W$10)*(W$11/V$11) -> 1794.9094
A35: Стоимость пластика для сувенирной продукции (PLA) | B35: руб/кг | C35: $-инфляция сырья x рост курса $ | G35: 2500 | H35: =G35*(1+H$10)*(H$11/G$11) -> 2528.2031 | I35: =H35*(1+I$10)*(I$11/H$11) -> 2556.7244 | J35: =I35*(1+J$10)*(J$11/I$11) -> 2585.5675 | K35: =J35*(1+K$10)*(K$11/J$11) -> 2614.7359 | L35: =K35*(1+L$10)*(L$11/K$11) -> 2644.2334 | M35: =L35*(1+M$10)*(M$11/L$11) -> 2674.0636 | N35: =M35*(1+N$10)*(N$11/M$11) -> 2704.2304 | O35: =N35*(1+O$10)*(O$11/N$11) -> 2734.7375 | ... W35: =V35*(1+W$10)*(W$11/V$11) -> 2991.5157
A36: Стоимость электроэнергии | B36: руб/кВт*ч | C36: инфлируется темпом общей инфляции | G36: 6 | H36: =G36*(1+H$6) -> 6.105 | I36: =H36*(1+I$6) -> 6.2118375 | J36: =I36*(1+J$6) -> 6.3205447 | K36: =J36*(1+K$6) -> 6.4311542 | L36: =K36*(1+L$6) -> 6.5276215 | M36: =L36*(1+M$6) -> 6.6255358 | N36: =M36*(1+N$6) -> 6.7249189 | O36: =N36*(1+O$6) -> 6.8257926 | ... W36: =V36*(1+W$6) -> 7.5389931
A37: Стоимость труда дизайнера (ФОТ) | B37: руб/мес | C37: инфлируется темпом инфляции з/п | G37: 150000 | H37: =G37*(1+H$8) -> 153000 | I37: =H37*(1+I$8) -> 156060 | J37: =I37*(1+J$8) -> 159181.2 | K37: =J37*(1+K$8) -> 162364.82 | L37: =K37*(1+L$8) -> 165612.12 | M37: =L37*(1+M$8) -> 168924.36 | N37: =M37*(1+N$8) -> 172302.85 | O37: =N37*(1+O$8) -> 175748.91 | ... W37: =V37*(1+W$8) -> 205917.86
A38: Стоимость труда рабочего (ФОТ) | B38: руб/мес | C38: инфлируется темпом инфляции з/п | G38: 75000 | H38: =G38*(1+H$8) -> 76500 | I38: =H38*(1+I$8) -> 78030 | J38: =I38*(1+J$8) -> 79590.6 | K38: =J38*(1+K$8) -> 81182.412 | L38: =K38*(1+L$8) -> 82806.06 | M38: =L38*(1+M$8) -> 84462.181 | N38: =M38*(1+N$8) -> 86151.425 | O38: =N38*(1+O$8) -> 87874.454 | ... W38: =V38*(1+W$8) -> 102958.93
A39: Число недель в месяце | B39: нед. | G39: 4.5 | H39: =G39 -> 4.5 | I39: =H39 -> 4.5 | J39: =I39 -> 4.5 | K39: =J39 -> 4.5 | L39: =K39 -> 4.5 | M39: =L39 -> 4.5 | N39: =M39 -> 4.5 | O39: =N39 -> 4.5 | ... W39: =V39 -> 4.5
A40: Число рабочих часов в неделе | B40: час. | G40: 40 | H40: =G40 -> 40 | I40: =H40 -> 40 | J40: =I40 -> 40 | K40: =J40 -> 40 | L40: =K40 -> 40 | M40: =L40 -> 40 | N40: =M40 -> 40 | O40: =N40 -> 40 | ... W40: =V40 -> 40
A41: Стоимость человеко-часа дизайнера | B41: руб/час | G41: =G37/(G39*G40) -> 833.33333 | H41: =H37/(H39*H40) -> 850 | I41: =I37/(I39*I40) -> 867 | J41: =J37/(J39*J40) -> 884.34 | K41: =K37/(K39*K40) -> 902.0268 | L41: =L37/(L39*L40) -> 920.06734 | M41: =M37/(M39*M40) -> 938.46868 | N41: =N37/(N39*N40) -> 957.23806 | ... W41: =W37/(W39*W40) -> 1143.9881
A42: Стоимость человеко-часа рабочего | B42: руб/час | G42: =G38/(G39*G40) -> 416.66667 | H42: =H38/(H39*H40) -> 425 | I42: =I38/(I39*I40) -> 433.5 | J42: =J38/(J39*J40) -> 442.17 | K42: =K38/(K39*K40) -> 451.0134 | L42: =L38/(L39*L40) -> 460.03367 | M42: =M38/(M39*M40) -> 469.23434 | N42: =N38/(N39*N40) -> 478.61903 | ... W42: =W38/(W39*W40) -> 571.99404
A44: Накладные расходы
A45: Аренда офиса | B45: тыс.руб./кв. | C45: инфлируется темпом общей инфляции | G45: 300 | H45: =G45*(1+H$6) -> 305.25 | I45: =H45*(1+I$6) -> 310.59188 | J45: =I45*(1+J$6) -> 316.02723 | K45: =J45*(1+K$6) -> 321.55771 | L45: =K45*(1+L$6) -> 326.38108 | M45: =L45*(1+M$6) -> 331.27679 | N45: =M45*(1+N$6) -> 336.24594 | O45: =N45*(1+O$6) -> 341.28963 | ... W45: =V45*(1+W$6) -> 376.94966
A46: Количество непроизводственного персонала | B46: чел. | C46: 5 чел. в год 1, +1 чел. в 1 кв. каждого следующего года | G46: 0 | H46: 5 | I46: =H46 -> 5 | J46: =I46 -> 5 | K46: =J46 -> 5 | L46: =K46+1 -> 6 | M46: =L46 -> 6 | N46: =M46 -> 6 | O46: =N46 -> 6 | P46: =O46+1 -> 7 | Q46: =P46 -> 7 | R46: =Q46 -> 7 | S46: =R46 -> 7 | T46: =S46+1 -> 8 | U46: =T46 -> 8 | V46: =U46 -> 8 | W46: =V46 -> 8
...

Sheet Расчеты
A1: Показатель | B1: Ед. изм. | C1: Комментарий | G1: Год 0 | H1: Год 1 | L1: Год 2 | P1: Год 3 | T1: Год 4
G2: 4-й кв. | H2: 1-й кв. | I2: 2-й кв. | J2: 3-й кв. | K2: 4-й кв. | L2: 1-й кв. | M2: 2-й кв. | N2: 3-й кв. | O2: 4-й кв. | P2: 1-й кв. | Q2: 2-й кв. | R2: 3-й кв. | S2: 4-й кв. | T2: 1-й кв. | U2: 2-й кв. | V2: 3-й кв. | W2: 4-й кв.
A4: Расчёт выручки
A5: Выручка от продажи макетной продукции | B5: тыс.руб. | G5: =Допущения!G14*Допущения!G18/1000 -> 0 | H5: =Допущения!H14*Допущения!H18/1000 -> 0 | I5: =Допущения!I14*Допущения!I18/1000 -> 2070.6125 | J5: =Допущения!J14*Допущения!J18/1000 -> 4213.6964 | K5: =Допущения!K14*Допущения!K18/1000 -> 6431.1542 | L5: =Допущения!L14*Допущения!L18/1000 -> 8703.4953 | M5: =Допущения!M14*Допущения!M18/1000 -> 11042.56 | N5: =Допущения!N14*Допущения!N18/1000 -> 13449.838 | ... W5: =Допущения!W14*Допущения!W18/1000 -> 15077.986
A6: Выручка от продажи сувенирной продукции | B6: тыс.руб. | G6: =Допущения!G15*Допущения!G19/1000 -> 0 | H6: =Допущения!H15*Допущения!H19/1000 -> 0 | I6: =Допущения!I15*Допущения!I19/1000 -> 621.18375 | J6: =Допущения!J15*Допущения!J19/1000 -> 1264.1089 | K6: =Допущения!K15*Допущения!K19/1000 -> 1929.3463 | L6: =Допущения!L15*Допущения!L19/1000 -> 2611.0486 | M6: =Допущения!M15*Допущения!M19/1000 -> 3312.7679 | N6: =Допущения!N15*Допущения!N19/1000 -> 4034.9513 | ... W6: =Допущения!W15*Допущения!W19/1000 -> 6031.1945
A7: ИТОГО ВЫРУЧКА | B7: тыс.руб. | G7: =SUM(G5:G6) -> 0 | H7: =SUM(H5:H6) -> 0 | I7: =SUM(I5:I6) -> 2691.7963 | J7: =SUM(J5:J6) -> 5477.8054 | K7: =SUM(K5:K6) -> 8360.5004 | L7: =SUM(L5:L6) -> 11314.544 | M7: =SUM(M5:M6) -> 14355.328 | N7: =SUM(N5:N6) -> 17484.789 | ... W7: =SUM(W5:W6) -> 21109.181
A9: Расчёт себестоимости продукции
A10: Затраты на пластик на макет | B10: руб/кг | G10: =Допущения!G22*Допущения!G34 -> 1575 | H10: =Допущения!H22*Допущения!H34 -> 1592.768 | I10: =Допущения!I22*Допущения!I34 -> 1610.7364 | J10: =Допущения!J22*Допущения!J34 -> 1628.9075 | K10: =Допущения!K22*Допущения!K34 -> 1647.2836 | L10: =Допущения!L22*Допущения!L34 -> 1665.867 | M10: =Допущения!M22*Допущения!M34 -> 1684.6601 | N10: =Допущения!N22*Допущения!N34 -> 1703.6652 | ... W10: =Допущения!W22*Допущения!W34 -> 1884.6549
A11: Затраты на электроэнергию на макет | B11: руб/кг | G11: =Допущения!G24*Допущения!G36 -> 300 | H11: =Допущения!H24*Допущения!H36 -> 305.25 | I11: =Допущения!I24*Допущения!I36 -> 310.59188 | J11: =Допущения!J24*Допущения!J36 -> 316.02723 | K11: =Допущения!K24*Допущения!K36 -> 321.55771 | L11: =Допущения!L24*Допущения!L36 -> 326.38108 | M11: =Допущения!M24*Допущения!M36 -> 331.27679 | N11: =Допущения!N24*Допущения!N36 -> 336.24594 | ... W11: =Допущения!W24*Допущения!W36 -> 376.94966
A12: Затраты на труд дизайнера на макет | B12: руб/кг | G12: =Допущения!G26*Допущения!G41 -> 416.66667 | H12: =Допущения!H26*Допущения!H41 -> 425 | I12: =Допущения!I26*Допущения!I41 -> 433.5 | J12: =Допущения!J26*Допущения!J41 -> 442.17 | K12: =Допущения!K26*Допущения!K41 -> 451.0134 | L12: =Допущения!L26*Допущения!L41 -> 460.03367 | M12: =Допущения!M26*Допущения!M41 -> 469.23434 | N12: =Допущения!N26*Допущения!N41 -> 478.61903 | ... W12: =Допущения!W26*Допущения!W41 -> 571.99404
A13: Затраты на труд рабочего на макет | B13: руб/кг | G13: =Допущения!G28*Допущения!G42 -> 41.666667 | H13: =Допущения!H28*Допущения!H42 -> 42.5 | I13: =Допущения!I28*Допущения!I42 -> 43.35 | J13: =Допущения!J28*Допущения!J42 -> 44.217 | K13: =Допущения!K28*Допущения!K42 -> 45.10134 | L13: =Допущения!L28*Допущения!L42 -> 46.003367 | M13: =Допущения!M28*Допущения!M42 -> 46.923434 | N13: =Допущения!N28*Допущения!N42 -> 47.861903 | ... W13: =Допущения!W28*Допущения!W42 -> 57.199404
A14: Прочие материалы и работы на макет | B14: руб/кг | G14: =Допущения!G30 -> 250 | H14: =Допущения!H30 -> 254.375 | I14: =Допущения!I30 -> 258.82656 | J14: =Допущения!J30 -> 263.35603 | K14: =Допущения!K30 -> 267.96476 | L14: =Допущения!L30 -> 271.98423 | M14: =Допущения!M30 -> 276.06399 | N14: =Допущения!N30 -> 280.20495 | ... W14: =Допущения!W30 -> 314.12471
A15: Удельная себестоимость макетной продукции | B15: руб/кг | G15: =SUM(G10:G14) -> 2583.3333 | H15: =SUM(H10:H14) -> 2619.893 | I15: =SUM(I10:I14) -> 2657.0048 | J15: =SUM(J10:J14) -> 2694.6778 | K15: =SUM(K10:K14) -> 2732.9208 | L15: =SUM(L10:L14) -> 2770.2694 | M15: =SUM(M10:M14) -> 2808.1587 | N15: =SUM(N10:N14) -> 2846.597 | ... W15: =SUM(W10:W14) -> 3204.9227
A16: Затраты на пластик на сувенирную продукцию | B16: руб/кг | G16: =Допущения!G23*Допущения!G35 -> 2800 | H16: =Допущения!H23*Допущения!H35 -> 2831.5875 | I16: =Допущения!I23*Допущения!I35 -> 2863.5313 | J16: =Допущения!J23*Допущения!J35 -> 2895.8356 | K16: =Допущения!K23*Допущения!K35 -> 2928.5042 | L16: =Допущения!L23*Допущения!L35 -> 2961.5414 | M16: =Допущения!M23*Допущения!M35 -> 2994.9513 | N16: =Допущения!N23*Допущения!N35 -> 3028.7381 | ... W16: =Допущения!W23*Допущения!W35 -> 3350.4976
A17: Затраты на электроэнергию на сувенирную продукцию | B17: руб/кг | G17: =Допущения!G25*Допущения!G36 -> 1200 | H17: =Допущения!H25*Допущения!H36 -> 1221 | I17: =Допущения!I25*Допущения!I36 -> 1242.3675 | J17: =Допущения!J25*Допущения!J36 -> 1264.1089 | K17: =Допущения!K25*Допущения!K36 -> 1286.2308 | L17: =Допущения!L25*Допущения!L36 -> 1305.5243 | M17: =Допущения!M25*Допущения!M36 -> 1325.1072 | N17: =Допущения!N25*Допущения!N36 -> 1344.9838 | ... W17: =Допущения!W25*Допущения!W36 -> 1507.7986
A18: Затраты на труд дизайнера на сувенирную продукцию | B18: руб/кг | G18: =Допущения!G27*Допущения!G41 -> 1041.6667 | H18: =Допущения!H27*Допущения!H41 -> 1062.5 | I18: =Допущения!I27*Допущения!I41 -> 1083.75 | J18: =Допущения!J27*Допущения!J41 -> 1105.425 | K18: =Допущения!K27*Допущения!K41 -> 1127.5335 | L18: =Допущения!L27*Допущения!L41 -> 1150.0842 | M18: =Допущения!M27*Допущения!M41 -> 1173.0859 | N18: =Допущения!N27*Допущения!N41 -> 1196.5476 | ... W18: =Допущения!W27*Допущения!W41 -> 1429.9851
A19: Затраты на труд рабочего на сувенирную продукцию | B19: руб/кг | G19: =Допущения!G29*Допущения!G42 -> 625 | H19: =Допущения!H29*Допущения!H42 -> 637.5 | I19: =Допущения!I29*Допущения!I42 -> 650.25 | J19: =Допущения!J29*Допущения!J42 -> 663.255 | K19: =Допущения!K29*Допущения!K42 -> 676.5201 | L19: =Допущения!L29*Допущения!L42 -> 690.0505 | M19: =Допущения!M29*Допущения!M42 -> 703.85151 | N19: =Допущения!N29*Допущения!N42 -> 717.92854 | ... W19: =Допущения!W29*Допущения!W42 -> 857.99107
A20: Прочие материалы и работы на сувенирную продукцию | B20: руб/кг | G20: =Допущения!G31 -> 600 | H20: =Допущения!H31 -> 610.5 | I20: =Допущения!I31 -> 621.18375 | J20: =Допущения!J31 -> 632.05447 | K20: =Допущения!K31 -> 643.11542 | L20: =Допущения!L31 -> 652.76215 | M20: =Допущения!M31 -> 662.55358 | N20: =Допущения!N31 -> 672.49189 | ... W20: =Допущения!W31 -> 753.89931
A21: Удельная себестоимость сувенирной продукции | B21: руб/кг | G21: =SUM(G16:G20) -> 6266.6667 | H21: =SUM(H16:H20) -> 6363.0875 | I21: =SUM(I16:I20) -> 6461.0826 | J21: =SUM(J16:J20) -> 6560.679 | K21: =SUM(K16:K20) -> 6661.9041 | L21: =SUM(L16:L20) -> 6759.9625 | M21: =SUM(M16:M20) -> 6859.5494 | N21: =SUM(N16:N20) -> 6960.6898 | ... W21: =SUM(W16:W20) -> 7900.1717
A23: Себестоимость продукции (макетная) | B23: тыс.руб. | G23: =G15*Допущения!G14/1000 -> 0 | H23: =H15*Допущения!H14/1000 -> 0 | I23: =I15*Допущения!I14/1000 -> 1328.5024 | J23: =J15*Допущения!J14/1000 -> 2694.6778 | K23: =K15*Допущения!K14/1000 -> 4099.3812 | L23: =L15*Допущения!L14/1000 -> 5540.5387 | M23: =M15*Допущения!M14/1000 -> 7020.3966 | N23: =N15*Допущения!N14/1000 -> 8539.791 | ... W23: =W15*Допущения!W14/1000 -> 9614.7682
A24: Себестоимость продукции (сувенирная) | B24: тыс.руб. | G24: =G21*Допущения!G15/1000 -> 0 | H24: =H21*Допущения!H15/1000 -> 0 | I24: =I21*Допущения!I15/1000 -> 323.05413 | J24: =J21*Допущения!J15/1000 -> 656.0679 | K24: =K21*Допущения!K15/1000 -> 999.28561 | L24: =L21*Допущения!L15/1000 -> 1351.9925 | M24: =M21*Допущения!M15/1000 -> 1714.8873 | N24: =N21*Допущения!N15/1000 -> 2088.207 | ... W24: =W21*Допущения!W15/1000 -> 3160.0687
A25: ИТОГО СЕБЕСТОИМОСТЬ ПРОДУКЦИИ | B25: тыс.руб. | G25: =SUM(G23:G24) -> 0 | H25: =SUM(H23:H24) -> 0 | I25: =SUM(I23:I24) -> 1651.5565 | J25: =SUM(J23:J24) -> 3350.7457 | K25: =SUM(K23:K24) -> 5098.6668 | L25: =SUM(L23:L24) -> 6892.5312 | M25: =SUM(M23:M24) -> 8735.284 | N25: =SUM(N23:N24) -> 10627.998 | ... W25: =SUM(W23:W24) -> 12774.837
A27: Расчёт накладных расходов
A28: ФОТ непроизводственного персонала | B28: тыс.руб. | G28: =Допущения!G46*Допущения!G48 -> 0 | H28: =Допущения!H46*Допущения!H48 -> 1836 | I28: =Допущения!I46*Допущения!I48 -> 1872.72 | J28: =Допущения!J46*Допущения!J48 -> 1910.1744 | K28: =Допущения!K46*Допущения!K48 -> 1948.3779 | L28: =Допущения!L46*Допущения!L48 -> 2384.8145 | M28: =Допущения!M46*Допущения!M48 -> 2432.5108 | N28: =Допущения!N46*Допущения!N48 -> 2481.161 | ... W28: =Допущения!W46*Допущения!W48 -> 3953.6228
A29: Аренда офиса | B29: тыс.руб. | G29: =Допущения!G45 -> 300 | H29: =Допущения!H45 -> 305.25 | I29: =Допущения!I45 -> 310.59188 | J29: =Допущения!J45 -> 316.02723 | K29: =Допущения!K45 -> 321.55771 | L29: =Допущения!L45 -> 326.38108 | M29: =Допущения!M45 -> 331.27679 | N29: =Допущения!N45 -> 336.24594 | ... W29: =Допущения!W45 -> 376.94966
A30: Накладные расходы до прочих | B30: тыс.руб. | G30: =SUM(G28:G29) -> 300 | H30: =SUM(H28:H29) -> 2141.25 | I30: =SUM(I28:I29) -> 2183.3119 | J30: =SUM(J28:J29) -> 2226.2016 | K30: =SUM(K28:K29) -> 2269.9356 | L30: =SUM(L28:L29) -> 2711.1956 | M30: =SUM(M28:M29) -> 2763.7876 | N30: =SUM(N28:N29) -> 2817.407 | ... W30: =SUM(W28:W29) -> 4330.5725
A31: Прочие (непредвиденные) расходы | B31: тыс.руб. | C31: % от накладных расходов до прочих | G31: =G30*Допущения!G49 -> 15 | H31: =H30*Допущения!H49 -> 107.0625 | I31: =I30*Допущения!I49 -> 109.16559 | J31: =J30*Допущения!J49 -> 111.31008 | K31: =K30*Допущения!K49 -> 113.49678 | L31: =L30*Допущения!L49 -> 135.55978 | M31: =M30*Допущения!M49 -> 138.18938 | N31: =N30*Допущения!N49 -> 140.87035 | ... W31: =W30*Допущения!W49 -> 216.52862
A32: ИТОГО НАКЛАДНЫЕ РАСХОДЫ | B32: тыс.руб. | G32: =G30+G31 -> 315 | H32: =H30+H31 -> 2248.3125 | I32: =I30+I31 -> 2292.4775 | J32: =J30+J31 -> 2337.5117 | K32: =K30+K31 -> 2383.4324 | L32: =L30+L31 -> 2846.7554 | M32: =M30+M31 -> 2901.977 | N32: =N30+N31 -> 2958.2773 | ... W32: =W30+W31 -> 4547.1011
A34: Расчёт оборотного капитала
A35: Затраты на пластик за период | B35: тыс.руб. | G35: =G10*Допущения!G14/1000+G16*Допущения!G15/1000 -> 0 | H35: =H10*Допущения!H14/1000+H16*Допущения!H15/1000 -> 0 | I35: =I10*Допущения!I14/1000+I16*Допущения!I15/1000 -> 948.54476 | J35: =J10*Допущения!J14/1000+J16*Допущения!J15/1000 -> 1918.4911 | K35: =K10*Допущения!K14/1000+K16*Допущения!K15/1000 -> 2910.2011 | L35: =L10*Допущения!L14/1000+L16*Допущения!L15/1000 -> 3924.0423 | M35: =M10*Допущения!M14/1000+M16*Допущения!M15/1000 -> 4960.3881 | N35: =N10*Допущения!N14/1000+N16*Допущения!N15/1000 -> 6019.6169 | ... W35: =W10*Допущения!W14/1000+W16*Допущения!W15/1000 -> 6994.1638
A36: Оборачиваемость ДЗ (с поставщиками) | B36: дни | G36: =Допущения!G52 -> 7 | H36: =Допущения!H52 -> 7 | I36: =Допущения!I52 -> 7 | J36: =Допущения!J52 -> 7 | K36: =Допущения!K52 -> 7 | L36: =Допущения!L52 -> 7 | M36: =Допущения!M52 -> 7 | N36: =Допущения!N52 -> 7 | ... W36: =Допущения!W52 -> 7
A37: Дебиторская задолженность (предоплата поставщикам) | B37: тыс.руб. | G37: =G36/90*G35 -> 0 | H37: =H36/90*H35 -> 0 | I37: =I36/90*I35 -> 73.775703 | J37: =J36/90*J35 -> 149.21597 | K37: =K36/90*K35 -> 226.34897 | L37: =L36/90*L35 -> 305.20329 | M37: =M36/90*M35 -> 385.80796 | N37: =N36/90*N35 -> 468.19243 | ... W37: =W36/90*W35 -> 543.99052
A38: Оборачиваемость КЗ (с клиентами) | B38: дни | G38: =Допущения!G53 -> 5 | H38: =Допущения!H53 -> 5 | I38: =Допущения!I53 -> 5 | J38: =Допущения!J53 -> 5 | K38: =Допущения!K53 -> 5 | L38: =Допущения!L53 -> 5 | M38: =Допущения!M53 -> 5 | N38: =Допущения!N53 -> 5 | ... W38: =Допущения!W53 -> 5
A39: Кредиторская задолженность (предоплата от клиентов) | B39: тыс.руб. | G39: =G38/90*G7 -> 0 | H39: =H38/90*H7 -> 0 | I39: =I38/90*I7 -> 149.54424 | J39: =J38/90*J7 -> 304.32252 | K39: =K38/90*K7 -> 464.47225 | L39: =L38/90*L7 -> 628.58577 | M39: =M38/90*M7 -> 797.5182 | N39: =N38/90*N7 -> 971.37717 | ... W39: =W38/90*W7 -> 1172.7323
A40: Оборачиваемость запасов | B40: дни | G40: =Допущения!G54 -> 15 | H40: =Допущения!H54 -> 15 | I40: =Допущения!I54 -> 15 | J40: =Допущения!J54 -> 15 | K40: =Допущения!K54 -> 15 | L40: =Допущения!L54 -> 15 | M40: =Допущения!M54 -> 15 | N40: =Допущения!N54 -> 15 | ... W40: =Допущения!W54 -> 15
A41: Запасы | B41: тыс.руб. | C41: в 1-м кв. года 1 — на уровне базового периода | G41: =Допущения!$G$76 -> 150 | H41: =Допущения!$G$76 -> 150 | I41: =I40/90*I35 -> 158.09079 | J41: =J40/90*J35 -> 319.74851 | K41: =K40/90*K35 -> 485.03351 | L41: =L40/90*L35 -> 654.00706 | M41: =M40/90*M35 -> 826.73134 | N41: =N40/90*N35 -> 1003.2695 | O41: =O40/90*O35 -> 1040.1118 | P41: =P40/90*P35 -> 1077.6578 | ... W41: =W40/90*W35 -> 1165.694
A43: Основные средства, амортизация и поддерживающие инвестиции
A44: Первоначальная стоимость ОС (накопленная) | B44: тыс.руб. | G44: 0 | H44: =G44+Допущения!$D$57 -> 12500 | I44: =H44+I45 -> 13125 | J44: =I44+J45 -> 13781.25 | K44: =J44+K45 -> 14470.312 | L44: =K44+L45 -> 15193.828 | M44: =L44+M45 -> 15953.52 | N44: =M44+N45 -> 16751.196 | O44: =N44+O45 -> 17588.755 | P44: =O44+P45 -> 18468.193 | ... W44: =V44+W45 -> 25986.602
A45: Поддерживающие инвестиции | B45: тыс.руб. | G45: 0 | H45: 0 | I45: =H44/Допущения!$D$59/4 -> 625 | J45: =I44/Допущения!$D$59/4 -> 656.25 | K45: =J44/Допущения!$D$59/4 -> 689.0625 | L45: =K44/Допущения!$D$59/4 -> 723.51562 | M45: =L44/Допущения!$D$59/4 -> 759.69141 | N45: =M44/Допущения!$D$59/4 -> 797.67598 | O45: =N44/Допущения!$D$59/4 -> 837.55978 | P45: =O44/Допущения!$D$59/4 -> 879.43776 | ... W45: =V44/Допущения!$D$59/4 -> 1237.4572
A46: Амортизация | B46: тыс.руб. | G46: 0 | H46: =G44/Допущения!$D$58/4 -> 0 | I46: =H44/Допущения!$D$58/4 -> 1041.6667 | J46: =I44/Допущения!$D$58/4 -> 1093.75 | K46: =J44/Допущения!$D$58/4 -> 1148.4375 | L46: =K44/Допущения!$D$58/4 -> 1205.8594 | M46: =L44/Допущения!$D$58/4 -> 1266.1523 | N46: =M44/Допущения!$D$58/4 -> 1329.46 | O46: =N44/Допущения!$D$58/4 -> 1395.933 | ... W46: =V44/Допущения!$D$58/4 -> 2062.4287
...

Sheet Отчетность
A1: Показатель | B1: Ед. изм. | C1: Комментарий | G1: Год 0 | H1: Год 1 | I1: Год 1 | J1: Год 1 | K1: Год 1 | L1: Год 2 | M1: Год 2 | N1: Год 2 | O1: Год 2 | P1: Год 3 | Q1: Год 3 | R1: Год 3 | S1: Год 3 | T1: Год 4 | U1: Год 4 | V1: Год 4 | W1: Год 4
G2: 4-й кв. | H2: 1-й кв. | I2: 2-й кв. | J2: 3-й кв. | K2: 4-й кв. | L2: 1-й кв. | M2: 2-й кв. | N2: 3-й кв. | O2: 4-й кв. | P2: 1-й кв. | Q2: 2-й кв. | R2: 3-й кв. | S2: 4-й кв. | T2: 1-й кв. | U2: 2-й кв. | V2: 3-й кв. | W2: 4-й кв.
A4: ПРОГНОЗНЫЙ ОТЧЁТ О ПРИБЫЛЯХ И УБЫТКАХ (ОПУ)
A5: Выручка | B5: тыс.руб. | H5: =Расчеты!H7 -> 0 | I5: =Расчеты!I7 -> 2691.7963 | J5: =Расчеты!J7 -> 5477.8054 | K5: =Расчеты!K7 -> 8360.5004 | L5: =Расчеты!L7 -> 11314.544 | M5: =Расчеты!M7 -> 14355.328 | N5: =Расчеты!N7 -> 17484.789 | O5: =Расчеты!O7 -> 18429.64 | ... W5: =Расчеты!W7 -> 21109.181
A6: Переменные расходы (себестоимость продукции) | B6: тыс.руб. | H6: =-Расчеты!H25 -> 0 | I6: =-Расчеты!I25 -> -1651.5565 | J6: =-Расчеты!J25 -> -3350.7457 | K6: =-Расчеты!K25 -> -5098.6668 | L6: =-Расчеты!L25 -> -6892.5312 | M6: =-Расчеты!M25 -> -8735.284 | N6: =-Расчеты!N25 -> -10627.998 | O6: =-Расчеты!O25 -> -11128.972 | ... W6: =-Расчеты!W25 -> -12774.837
A7: Валовая прибыль | B7: тыс.руб. | H7: =H5+H6 -> 0 | I7: =I5+I6 -> 1040.2397 | J7: =J5+J6 -> 2127.0597 | K7: =K5+K6 -> 3261.8336 | L7: =L5+L6 -> 4422.0127 | M7: =M5+M6 -> 5620.0436 | N7: =N5+N6 -> 6856.7911 | O7: =O5+O6 -> 7300.6683 | ... W7: =W5+W6 -> 8334.3438
A8: Постоянные (накладные) расходы | B8: тыс.руб. | H8: =-Расчеты!H32 -> -2248.3125 | I8: =-Расчеты!I32 -> -2292.4775 | J8: =-Расчеты!J32 -> -2337.5117 | K8: =-Расчеты!K32 -> -2383.4324 | L8: =-Расчеты!L32 -> -2846.7554 | M8: =-Расчеты!M32 -> -2901.977 | N8: =-Расчеты!N32 -> -2958.2773 | O8: =-Расчеты!O32 -> -3015.6776 | ... W8: =-Расчеты!W32 -> -4547.1011
A9: EBITDA | B9: тыс.руб. | H9: =H7+H8 -> -2248.3125 | I9: =I7+I8 -> -1252.2378 | J9: =J7+J8 -> -210.452 | K9: =K7+K8 -> 878.40122 | L9: =L7+L8 -> 1575.2573 | M9: =M7+M8 -> 2718.0666 | N9: =N7+N8 -> 3898.5138 | O9: =O7+O8 -> 4284.9907 | ... W9: =W7+W8 -> 3787.2427
A10: Амортизация | B10: тыс.руб. | H10: =-Расчеты!H46 -> 0 | I10: =-Расчеты!I46 -> -1041.6667 | J10: =-Расчеты!J46 -> -1093.75 | K10: =-Расчеты!K46 -> -1148.4375 | L10: =-Расчеты!L46 -> -1205.8594 | M10: =-Расчеты!M46 -> -1266.1523 | N10: =-Расчеты!N46 -> -1329.46 | O10: =-Расчеты!O46 -> -1395.933 | ... W10: =-Расчеты!W46 -> -2062.4287
A11: EBIT (операционная прибыль) | B11: тыс.руб. | H11: =H9+H10 -> -2248.3125 | I11: =I9+I10 -> -2293.9044 | J11: =J9+J10 -> -1304.202 | K11: =K9+K10 -> -270.03628 | L11: =L9+L10 -> 369.39792 | M11: =M9+M10 -> 1451.9143 | N11: =N9+N10 -> 2569.0538 | O11: =O9+O10 -> 2889.0577 | ... W11: =W9+W10 -> 1724.814
A12: Проценты по кредиту | B12: тыс.руб. | H12: =-Расчеты!H58 -> -133.59375 | I12: =-Расчеты!I58 -> -257.64509 | J12: =-Расчеты!J58 -> -238.56027 | K12: =-Расчеты!K58 -> -219.47545 | L12: =-Расчеты!L58 -> -200.39062 | M12: =-Расчеты!M58 -> -181.3058 | N12: =-Расчеты!N58 -> -162.22098 | O12: =-Расчеты!O58 -> -143.13616 | ... W12: =-Расчеты!W58 -> 0
A13: Прибыль до налогообложения (EBT) | B13: тыс.руб. | H13: =H11+H12 -> -2381.9062 | I13: =I11+I12 -> -2551.5495 | J13: =J11+J12 -> -1542.7623 | K13: =K11+K12 -> -489.51172 | L13: =L11+L12 -> 169.0073 | M13: =M11+M12 -> 1270.6085 | N13: =N11+N12 -> 2406.8328 | O13: =O11+O12 -> 2745.9216 | ... W13: =W11+W12 -> 1724.814
A14: Налог на прибыль | B14: тыс.руб. | H14: =-IF(G25>0,1,0.5)*Допущения!H70*MAX(H13,0) -> 0 | I14: =-IF(H25>0,1,0.5)*Допущения!I70*MAX(I13,0) -> 0 | J14: =-IF(I25>0,1,0.5)*Допущения!J70*MAX(J13,0) -> 0 | K14: =-IF(J25>0,1,0.5)*Допущения!K70*MAX(K13,0) -> 0 | L14: =-IF(K25>0,1,0.5)*Допущения!L70*MAX(L13,0) -> -16.90073 | M14: =-IF(L25>0,1,0.5)*Допущения!M70*MAX(M13,0) -> -127.06085 | N14: =-IF(M25>0,1,0.5)*Допущения!N70*MAX(N13,0) -> -240.68328 | O14: =-IF(N25>0,1,0.5)*Допущения!O70*MAX(O13,0) -> -274.59216 | ... W14: =-IF(V25>0,1,0.5)*Допущения!W70*MAX(W13,0) -> -344.96279
A15: Чистая прибыль | B15: тыс.руб. | H15: =H13+H14 -> -2381.9062 | I15: =I13+I14 -> -2551.5495 | J15: =J13+J14 -> -1542.7623 | K15: =K13+K14 -> -489.51172 | L15: =L13+L14 -> 152.10657 | M15: =M13+M14 -> 1143.5476 | N15: =N13+N14 -> 2166.1495 | O15: =O13+O14 -> 2471.3294 | ... W15: =W13+W14 -> 1379.8512
A17: ПРОГНОЗНЫЙ БУХГАЛТЕРСКИЙ БАЛАНС
A18: Внеоборотные активы (ОС по остаточной стоимости) | B18: тыс.руб. | G18: =Допущения!G74 -> 0 | H18: =Расчеты!H47 -> 12500 | I18: =Расчеты!I47 -> 12083.333 | J18: =Расчеты!J47 -> 11645.833 | K18: =Расчеты!K47 -> 11186.458 | L18: =Расчеты!L47 -> 10704.115 | M18: =Расчеты!M47 -> 10197.654 | N18: =Расчеты!N47 -> 9665.8697 | O18: =Расчеты!O47 -> 9107.4965 | ... W18: =Расчеты!W47 -> 3508.9318
A19: Запасы | B19: тыс.руб. | G19: =Допущения!G76 -> 150 | H19: =Расчеты!H41 -> 150 | I19: =Расчеты!I41 -> 158.09079 | J19: =Расчеты!J41 -> 319.74851 | K19: =Расчеты!K41 -> 485.03351 | L19: =Расчеты!L41 -> 654.00706 | M19: =Расчеты!M41 -> 826.73134 | N19: =Расчеты!N41 -> 1003.2695 | O19: =Расчеты!O41 -> 1040.1118 | ... W19: =Расчеты!W41 -> 1165.694
A20: Дебиторская задолженность (предоплата поставщикам) | B20: тыс.руб. | G20: =Допущения!G75 -> 0 | H20: =Расчеты!H37 -> 0 | I20: =Расчеты!I37 -> 73.775703 | J20: =Расчеты!J37 -> 149.21597 | K20: =Расчеты!K37 -> 226.34897 | L20: =Расчеты!L37 -> 305.20329 | M20: =Расчеты!M37 -> 385.80796 | N20: =Расчеты!N37 -> 468.19243 | O20: =Расчеты!O37 -> 485.38552 | ... W20: =Расчеты!W37 -> 543.99052
A21: Дебиторская задолженность по НДС | B21: тыс.руб. | G21: =Допущения!G77 -> 0 | H21: =Расчеты!H69 -> 2582.4625 | I21: =Расчеты!I69 -> 2518.3411 | J21: =Расчеты!J69 -> 0 | K21: =Расчеты!K69 -> 0 | L21: =Расчеты!L69 -> 0 | M21: =Расчеты!M69 -> 0 | N21: =Расчеты!N69 -> 0 | O21: =Расчеты!O69 -> 0 | ... W21: =Расчеты!W69 -> 0
A22: Денежные средства | B22: тыс.руб. | G22: =Допущения!G78 -> 1850 | H22: =H50 -> 260.63125 | I22: =I50 -> 2409.3333 | J22: =J50 -> 2891.8781 | K22: =K50 -> 1931.2588 | L22: =L50 -> 1633.7805 | M22: =M50 -> 2351.1783 | N22: =N50 -> 4115.8339 | O22: =O50 -> 6295.7785 | ... W22: =W50 -> 20199.591
A23: ИТОГО АКТИВЫ | B23: тыс.руб. | G23: =SUM(G18:G22) -> 2000 | H23: =SUM(H18:H22) -> 15493.094 | I23: =SUM(I18:I22) -> 17242.874 | J23: =SUM(J18:J22) -> 15006.676 | K23: =SUM(K18:K22) -> 13829.1 | L23: =SUM(L18:L22) -> 13297.105 | M23: =SUM(M18:M22) -> 13761.371 | N23: =SUM(N18:N22) -> 15253.165 | ... W23: =SUM(W18:W22) -> 25418.208
A24: Уставный капитал (взносы инвестора) | B24: тыс.руб. | G24: =Допущения!G80 -> 2000 | H24: =G24+Расчеты!H51 -> 6000 | I24: =H24+Расчеты!I51 -> 11000 | J24: =I24+Расчеты!J51 -> 11000 | K24: =J24+Расчеты!K51 -> 11000 | L24: =K24+Расчеты!L51 -> 11000 | M24: =L24+Расчеты!M51 -> 11000 | N24: =M24+Расчеты!N51 -> 11000 | O24: =N24+Расчеты!O51 -> 11000 | ... W24: =V24+Расчеты!W51 -> 11000
A25: Нераспределённая прибыль | B25: тыс.руб. | G25: =Допущения!G81 -> 0 | H25: =G25+H15 -> -2381.9062 | I25: =H25+I15 -> -4933.4558 | J25: =I25+J15 -> -6476.218 | K25: =J25+K15 -> -6965.7298 | L25: =K25+L15 -> -6813.6232 | M25: =L25+M15 -> -5670.0756 | N25: =M25+N15 -> -3503.926 | O25: =N25+O15 -> -1032.5966 | ... W25: =V25+W15 -> 13245.475
A26: ИТОГО КАПИТАЛ | B26: тыс.руб. | G26: =G24+G25 -> 2000 | H26: =H24+H25 -> 3618.0938 | I26: =I24+I25 -> 6066.5442 | J26: =J24+J25 -> 4523.782 | K26: =K24+K25 -> 4034.2702 | L26: =L24+L25 -> 4186.3768 | M26: =M24+M25 -> 5329.9244 | N26: =N24+N25 -> 7496.074 | ... W26: =W24+W25 -> 24245.475
A27: Долгосрочный кредит | B27: тыс.руб. | G27: =Допущения!G82 -> 0 | H27: =Расчеты!H54 -> 11875 | I27: =Расчеты!I54 -> 11026.786 | J27: =Расчеты!J54 -> 10178.571 | K27: =Расчеты!K54 -> 9330.3571 | L27: =Расчеты!L54 -> 8482.1429 | M27: =Расчеты!M54 -> 7633.9286 | N27: =Расчеты!N54 -> 6785.7143 | O27: =Расчеты!O54 -> 5937.5 | ... W27: =Расчеты!W54 -> 0
A28: Кредиторская задолженность (предоплата от клиентов) | B28: тыс.руб. | G28: =Допущения!G83 -> 0 | H28: =Расчеты!H39 -> 0 | I28: =Расчеты!I39 -> 149.54424 | J28: =Расчеты!J39 -> 304.32252 | K28: =Расчеты!K39 -> 464.47225 | L28: =Расчеты!L39 -> 628.58577 | M28: =Расчеты!M39 -> 797.5182 | N28: =Расчеты!N39 -> 971.37717 | O28: =Расчеты!O39 -> 1023.8689 | ... W28: =Расчеты!W39 -> 1172.7323
A29: ИТОГО ОБЯЗАТЕЛЬСТВА | B29: тыс.руб. | G29: =G27+G28 -> 0 | H29: =H27+H28 -> 11875 | I29: =I27+I28 -> 11176.33 | J29: =J27+J28 -> 10482.894 | K29: =K27+K28 -> 9794.8294 | L29: =L27+L28 -> 9110.7286 | M29: =M27+M28 -> 8431.4468 | N29: =N27+N28 -> 7757.0915 | ... W29: =W27+W28 -> 1172.7323
A30: ИТОГО ПАССИВЫ (капитал + обязательства) | B30: тыс.руб. | G30: =G26+G29 -> 2000 | H30: =H26+H29 -> 15493.094 | I30: =I26+I29 -> 17242.874 | J30: =J26+J29 -> 15006.676 | K30: =K26+K29 -> 13829.1 | L30: =L26+L29 -> 13297.105 | M30: =M26+M29 -> 13761.371 | N30: =N26+N29 -> 15253.165 | ... W30: =W26+W29 -> 25418.208
A31: Проверка: активы − пассивы (должно быть 0) | B31: тыс.руб. | G31: =G23-G30 -> 0 | H31: =H23-H30 -> 0 | I31: =I23-I30 -> 0 | J31: =J23-J30 -> 0 | K31: =K23-K30 -> 0 | L31: =L23-L30 -> 0 | M31: =M23-M30 -> 0 | N31: =N23-N30 -> 0 | ... W31: =W23-W30 -> 0
A33: ПРОГНОЗНЫЙ ОТЧЁТ О ДВИЖЕНИИ ДЕНЕЖНЫХ СРЕДСТВ (ОДДС)
A34: Чистая прибыль | B34: тыс.руб. | H34: =H15 -> -2381.9062 | I34: =I15 -> -2551.5495 | J34: =J15 -> -1542.7623 | K34: =K15 -> -489.51172 | L34: =L15 -> 152.10657 | M34: =M15 -> 1143.5476 | N34: =N15 -> 2166.1495 | O34: =O15 -> 2471.3294 | ... W34: =W15 -> 1379.8512
A35: Амортизация (неденежная статья) | B35: тыс.руб. | H35: =-H10 -> 0 | I35: =-I10 -> 1041.6667 | J35: =-J10 -> 1093.75 | K35: =-K10 -> 1148.4375 | L35: =-L10 -> 1205.8594 | M35: =-M10 -> 1266.1523 | N35: =-N10 -> 1329.46 | O35: =-O10 -> 1395.933 | ... W35: =-W10 -> 2062.4287
A36: Изменение дебиторской задолженности | B36: тыс.руб. | H36: =-(Расчеты!H37-Расчеты!G37) -> 0 | I36: =-(Расчеты!I37-Расчеты!H37) -> -73.775703 | J36: =-(Расчеты!J37-Расчеты!I37) -> -75.440268 | K36: =-(Расчеты!K37-Расчеты!J37) -> -77.133 | L36: =-(Расчеты!L37-Расчеты!K37) -> -78.854323 | M36: =-(Расчеты!M37-Расчеты!L37) -> -80.604667 | N36: =-(Расчеты!N37-Расчеты!M37) -> -82.384467 | O36: =-(Расчеты!O37-Расчеты!N37) -> -17.193097 | ... W36: =-(Расчеты!W37-Расчеты!V37) -> -6.0684335
A37: Изменение дебиторской задолженности по НДС | B37: тыс.руб. | H37: =-(Расчеты!H69-Расчеты!G69) -> -2582.4625 | I37: =-(Расчеты!I69-Расчеты!H69) -> 64.121448 | J37: =-(Расчеты!J69-Расчеты!I69) -> 2518.3411 | K37: =-(Расчеты!K69-Расчеты!J69) -> 0 | L37: =-(Расчеты!L69-Расчеты!K69) -> 0 | M37: =-(Расчеты!M69-Расчеты!L69) -> 0 | N37: =-(Расчеты!N69-Расчеты!M69) -> 0 | O37: =-(Расчеты!O69-Расчеты!N69) -> 0 | ... W37: =-(Расчеты!W69-Расчеты!V69) -> 0
A38: Изменение запасов | B38: тыс.руб. | H38: =-(Расчеты!H41-Расчеты!G41) -> 0 | I38: =-(Расчеты!I41-Расчеты!H41) -> -8.0907931 | J38: =-(Расчеты!J41-Расчеты!I41) -> -161.65772 | K38: =-(Расчеты!K41-Расчеты!J41) -> -165.285 | L38: =-(Расчеты!L41-Расчеты!K41) -> -168.97355 | M38: =-(Расчеты!M41-Расчеты!L41) -> -172.72429 | N38: =-(Расчеты!N41-Расчеты!M41) -> -176.53814 | O38: =-(Расчеты!O41-Расчеты!N41) -> -36.842351 | ... W38: =-(Расчеты!W41-Расчеты!V41) -> -13.003786
A39: Изменение кредиторской задолженности | B39: тыс.руб. | H39: =Расчеты!H39-Расчеты!G39 -> 0 | I39: =Расчеты!I39-Расчеты!H39 -> 149.54424 | J39: =Расчеты!J39-Расчеты!I39 -> 154.77828 | K39: =Расчеты!K39-Расчеты!J39 -> 160.14973 | L39: =Расчеты!L39-Расчеты!K39 -> 164.11353 | M39: =Расчеты!M39-Расчеты!L39 -> 168.93243 | N39: =Расчеты!N39-Расчеты!M39 -> 173.85897 | O39: =Расчеты!O39-Расчеты!N39 -> 52.491728 | ... W39: =Расчеты!W39-Расчеты!V39 -> 14.478176
A40: ЧДП от операционной деятельности | B40: тыс.руб. | H40: =SUM(H34:H39) -> -4964.3687 | I40: =SUM(I34:I39) -> -1378.0837 | J40: =SUM(J34:J39) -> 1987.0091 | K40: =SUM(K34:K39) -> 576.65751 | L40: =SUM(L34:L39) -> 1274.2516 | M40: =SUM(M34:M39) -> 2325.3035 | N40: =SUM(N34:N39) -> 3410.5459 | O40: =SUM(O34:O39) -> 3865.7187 | ... W40: =SUM(W34:W39) -> 3437.6859
A41: Капитальные затраты (CAPEX) | B41: тыс.руб. | H41: =-Расчеты!H48 -> -12500 | I41: =-Расчеты!I48 -> -625 | J41: =-Расчеты!J48 -> -656.25 | K41: =-Расчеты!K48 -> -689.0625 | L41: =-Расчеты!L48 -> -723.51562 | M41: =-Расчеты!M48 -> -759.69141 | N41: =-Расчеты!N48 -> -797.67598 | O41: =-Расчеты!O48 -> -837.55978 | ... W41: =-Расчеты!W48 -> -1237.4572
A42: Инвестиционный приток | B42: тыс.руб. | H42: =0 -> 0 | I42: =0 -> 0 | J42: =0 -> 0 | K42: =0 -> 0 | L42: =0 -> 0 | M42: =0 -> 0 | N42: =0 -> 0 | O42: =0 -> 0 | ... W42: =0 -> 0
A43: ЧДП от инвестиционной деятельности | B43: тыс.руб. | H43: =H41+H42 -> -12500 | I43: =I41+I42 -> -625 | J43: =J41+J42 -> -656.25 | K43: =K41+K42 -> -689.0625 | L43: =L41+L42 -> -723.51562 | M43: =M41+M42 -> -759.69141 | N43: =N41+N42 -> -797.67598 | O43: =O41+O42 -> -837.55978 | ... W43: =W41+W42 -> -1237.4572
...

Sheet Годовая отчетность
B1: Ед. изм. | C1: Комментарий | D1: Const | E1: Год 0 | F1: Год 1 | G1: Год 2 | H1: Год 3 | I1: Год 4
A2: ПРОГНОЗНЫЙ ОТЧЕТ О ПРИБЫЛЯХ И УБЫТКАХ
A3: Выручка | B3: тыс.руб. | F3: =SUMIF(Отчетность!$G$1:$W$1,F$1,Отчетность!$G5:$W5) -> 16530.102 | G3: =SUMIF(Отчетность!$G$1:$W$1,G$1,Отчетность!$G5:$W5) -> 61584.301 | H3: =SUMIF(Отчетность!$G$1:$W$1,H$1,Отчетность!$G5:$W5) -> 78867.955 | I3: =SUMIF(Отчетность!$G$1:$W$1,I$1,Отчетность!$G5:$W5) -> 82885.91
A4: Себестоимость (без амортизации) | B4: тыс.руб. | F4: =SUMIF(Отчетность!$G$1:$W$1,F$1,Отчетность!$G6:$W6) -> -10100.969 | G4: =SUMIF(Отчетность!$G$1:$W$1,G$1,Отчетность!$G6:$W6) -> -37384.785 | H4: =SUMIF(Отчетность!$G$1:$W$1,H$1,Отчетность!$G6:$W6) -> -47487.41 | I4: =SUMIF(Отчетность!$G$1:$W$1,I$1,Отчетность!$G6:$W6) -> -50090.459
A5: Накладные расходы (без амортизации) | B5: тыс.руб. | F5: =SUMIF(Отчетность!$G$1:$W$1,F$1,Отчетность!$G8:$W8) -> -9261.7341 | G5: =SUMIF(Отчетность!$G$1:$W$1,G$1,Отчетность!$G8:$W8) -> -11722.687 | H5: =SUMIF(Отчетность!$G$1:$W$1,H$1,Отчетность!$G8:$W8) -> -14512.185 | I5: =SUMIF(Отчетность!$G$1:$W$1,I$1,Отчетность!$G8:$W8) -> -17677.291
A6: EBITDA | B6: тыс.руб. | F6: =F3+F4+F5 -> -2832.601 | G6: =G3+G4+G5 -> 12476.828 | H6: =H3+H4+H5 -> 16868.361 | I6: =I3+I4+I5 -> 15118.16
A7: Амортизация | B7: тыс.руб. | F7: =SUMIF(Отчетность!$G$1:$W$1,F$1,Отчетность!$G10:$W10) -> -3283.8542 | G7: =SUMIF(Отчетность!$G$1:$W$1,G$1,Отчетность!$G10:$W10) -> -5197.4046 | H7: =SUMIF(Отчетность!$G$1:$W$1,H$1,Отчетность!$G10:$W10) -> -6317.4778 | I7: =SUMIF(Отчетность!$G$1:$W$1,I$1,Отчетность!$G10:$W10) -> -7678.9338
A8: EBIT (операционная прибыль) | B8: тыс.руб. | F8: =F6+F7 -> -6116.4552 | G8: =G6+G7 -> 7279.4237 | H8: =H6+H7 -> 10550.883 | I8: =I6+I7 -> 7439.2259
A9: Проценты | B9: тыс.руб. | F9: =SUMIF(Отчетность!$G$1:$W$1,F$1,Отчетность!$G12:$W12) -> -849.27455 | G9: =SUMIF(Отчетность!$G$1:$W$1,G$1,Отчетность!$G12:$W12) -> -687.05357 | H9: =SUMIF(Отчетность!$G$1:$W$1,H$1,Отчетность!$G12:$W12) -> -381.69643 | I9: =SUMIF(Отчетность!$G$1:$W$1,I$1,Отчетность!$G12:$W12) -> -85.881696
A10: EBT (налогооблагаемая прибыль) | B10: тыс.руб. | F10: =F8+F9 -> -6965.7298 | G10: =G8+G9 -> 6592.3702 | H10: =H8+H9 -> 10169.186 | I10: =I8+I9 -> 7353.3442
A11: Налог на прибыль | B11: тыс.руб. | F11: =SUMIF(Отчетность!$G$1:$W$1,F$1,Отчетность!$G14:$W14) -> 0 | G11: =SUMIF(Отчетность!$G$1:$W$1,G$1,Отчетность!$G14:$W14) -> -659.23702 | H11: =SUMIF(Отчетность!$G$1:$W$1,H$1,Отчетность!$G14:$W14) -> -1773.7898 | I11: =SUMIF(Отчетность!$G$1:$W$1,I$1,Отчетность!$G14:$W14) -> -1470.6688
A12: Чистая прибыль | B12: тыс.руб. | F12: =F10+F11 -> -6965.7298 | G12: =G10+G11 -> 5933.1332 | H12: =H10+H11 -> 8395.3966 | I12: =I10+I11 -> 5882.6754
A14: ПРОГНОЗНЫЙ ОТЧЕТ О ДВИЖЕНИИ ДЕНЕЖНЫХ СРЕДСТВ
A15: Чистая прибыль | B15: тыс.руб. | F15: =SUMIF(Отчетность!$G$1:$W$1,F$1,Отчетность!$G34:$W34) -> -6965.7298 | G15: =SUMIF(Отчетность!$G$1:$W$1,G$1,Отчетность!$G34:$W34) -> 5933.1332 | H15: =SUMIF(Отчетность!$G$1:$W$1,H$1,Отчетность!$G34:$W34) -> 8395.3966 | I15: =SUMIF(Отчетность!$G$1:$W$1,I$1,Отчетность!$G34:$W34) -> 5882.6754
A16: Амортизация | B16: тыс.руб. | F16: =SUMIF(Отчетность!$G$1:$W$1,F$1,Отчетность!$G35:$W35) -> 3283.8542 | G16: =SUMIF(Отчетность!$G$1:$W$1,G$1,Отчетность!$G35:$W35) -> 5197.4046 | H16: =SUMIF(Отчетность!$G$1:$W$1,H$1,Отчетность!$G35:$W35) -> 6317.4778 | I16: =SUMIF(Отчетность!$G$1:$W$1,I$1,Отчетность!$G35:$W35) -> 7678.9338
A17: Прочие неденежные доходы и расходы | B17: тыс.руб. | F17: 0 | G17: 0 | H17: 0 | I17: 0
A18: Изменение оборотного капитала | B18: тыс.руб. | F18: =F19+F20+F21+F22 -> -96.910233 | G18: =G19+G20+G21+G22 -> -254.71823 | H18: =H19+H20+H21+H22 -> -17.151003 | I18: =I19+I20+I21+I22 -> -18.172749
A19: изменение ДЗ | B19: тыс.руб. | F19: =SUMIF(Отчетность!$G$1:$W$1,F$1,Отчетность!$G36:$W36) -> -226.34897 | G19: =SUMIF(Отчетность!$G$1:$W$1,G$1,Отчетность!$G36:$W36) -> -259.03655 | H19: =SUMIF(Отчетность!$G$1:$W$1,H$1,Отчетность!$G36:$W36) -> -34.73442 | I19: =SUMIF(Отчетность!$G$1:$W$1,I$1,Отчетность!$G36:$W36) -> -23.870571
A20: изменение КЗ | B20: тыс.руб. | F20: =SUMIF(Отчетность!$G$1:$W$1,F$1,Отчетность!$G39:$W39) -> 464.47225 | G20: =SUMIF(Отчетность!$G$1:$W$1,G$1,Отчетность!$G39:$W39) -> 559.39665 | H20: =SUMIF(Отчетность!$G$1:$W$1,H$1,Отчетность!$G39:$W39) -> 92.014318 | I20: =SUMIF(Отчетность!$G$1:$W$1,I$1,Отчетность!$G39:$W39) -> 56.849046
A21: изменение запасов | B21: тыс.руб. | F21: =SUMIF(Отчетность!$G$1:$W$1,F$1,Отчетность!$G38:$W38) -> -335.03351 | G21: =SUMIF(Отчетность!$G$1:$W$1,G$1,Отчетность!$G38:$W38) -> -555.07833 | H21: =SUMIF(Отчетность!$G$1:$W$1,H$1,Отчетность!$G38:$W38) -> -74.4309 | I21: =SUMIF(Отчетность!$G$1:$W$1,I$1,Отчетность!$G38:$W38) -> -51.151224
A22: изменение ДЗ по НДС | B22: тыс.руб. | F22: =SUMIF(Отчетность!$G$1:$W$1,F$1,Отчетность!$G37:$W37) -> 0 | G22: =SUMIF(Отчетность!$G$1:$W$1,G$1,Отчетность!$G37:$W37) -> 0 | H22: =SUMIF(Отчетность!$G$1:$W$1,H$1,Отчетность!$G37:$W37) -> 0 | I22: =SUMIF(Отчетность!$G$1:$W$1,I$1,Отчетность!$G37:$W37) -> 0
A23: Итого операционный поток | B23: тыс.руб. | F23: =F15+F16+F17+F18 -> -3778.7858 | G23: =G15+G16+G17+G18 -> 10875.82 | H23: =H15+H16+H17+H18 -> 14695.723 | I23: =I15+I16+I17+I18 -> 13543.436
A25: Инвестиционный приток | B25: тыс.руб. | F25: =SUMIF(Отчетность!$G$1:$W$1,F$1,Отчетность!$G42:$W42) -> 0 | G25: =SUMIF(Отчетность!$G$1:$W$1,G$1,Отчетность!$G42:$W42) -> 0 | H25: =SUMIF(Отчетность!$G$1:$W$1,H$1,Отчетность!$G42:$W42) -> 0 | I25: =SUMIF(Отчетность!$G$1:$W$1,I$1,Отчетность!$G42:$W42) -> 0
A26: Инвестиционный отток | B26: тыс.руб. | F26: =SUMIF(Отчетность!$G$1:$W$1,F$1,Отчетность!$G41:$W41) -> -14470.312 | G26: =SUMIF(Отчетность!$G$1:$W$1,G$1,Отчетность!$G41:$W41) -> -3118.4428 | H26: =SUMIF(Отчетность!$G$1:$W$1,H$1,Отчетность!$G41:$W41) -> -3790.4867 | I26: =SUMIF(Отчетность!$G$1:$W$1,I$1,Отчетность!$G41:$W41) -> -4607.3603
A27: Итого инвестиционный поток | B27: тыс.руб. | F27: =F25+F26 -> -14470.312 | G27: =G25+G26 -> -3118.4428 | H27: =H25+H26 -> -3790.4867 | I27: =I25+I26 -> -4607.3603
A29: Привлечение кредитов и займов | B29: тыс.руб. | F29: =SUMIF(Отчетность!$G$1:$W$1,F$1,Отчетность!$G44:$W44) -> 11875 | G29: =SUMIF(Отчетность!$G$1:$W$1,G$1,Отчетность!$G44:$W44) -> 0 | H29: =SUMIF(Отчетность!$G$1:$W$1,H$1,Отчетность!$G44:$W44) -> 0 | I29: =SUMIF(Отчетность!$G$1:$W$1,I$1,Отчетность!$G44:$W44) -> 0
A30: Погашение кредитов и займов | B30: тыс.руб. | F30: =SUMIF(Отчетность!$G$1:$W$1,F$1,Отчетность!$G45:$W45) -> -2544.6429 | G30: =SUMIF(Отчетность!$G$1:$W$1,G$1,Отчетность!$G45:$W45) -> -3392.8571 | H30: =SUMIF(Отчетность!$G$1:$W$1,H$1,Отчетность!$G45:$W45) -> -3392.8571 | I30: =SUMIF(Отчетность!$G$1:$W$1,I$1,Отчетность!$G45:$W45) -> -2544.6429
A31: Вложение собственного капитала | B31: тыс.руб. | F31: =SUMIF(Отчетность!$G$1:$W$1,F$1,Отчетность!$G46:$W46) -> 9000 | G31: =SUMIF(Отчетность!$G$1:$W$1,G$1,Отчетность!$G46:$W46) -> 0 | H31: =SUMIF(Отчетность!$G$1:$W$1,H$1,Отчетность!$G46:$W46) -> 0 | I31: =SUMIF(Отчетность!$G$1:$W$1,I$1,Отчетность!$G46:$W46) -> 0
A32: Итого финансовый поток | B32: тыс.руб. | F32: =F29+F30+F31 -> 18330.357 | G32: =G29+G30+G31 -> -3392.8571 | H32: =H29+H30+H31 -> -3392.8571 | I32: =I29+I30+I31 -> -2544.6429
A34: Total CF | B34: тыс.руб. | F34: =F23+F27+F32 -> 81.258819 | G34: =G23+G27+G32 -> 4364.5196 | H34: =H23+H27+H32 -> 7512.3796 | I34: =I23+I27+I32 -> 6391.4333
A36: ПРОГНОЗНЫЙ БУХГАЛТЕРСКИЙ БАЛАНС
A37: Основные средства | B37: тыс.руб. | E37: =SUMIFS(Отчетность!$G18:$W18,Отчетность!$G$1:$W$1,E$1,Отчетность!$G$2:$W$2,Отчетность!$G$2) -> 0 | F37: =SUMIFS(Отчетность!$G18:$W18,Отчетность!$G$1:$W$1,F$1,Отчетность!$G$2:$W$2,Отчетность!$G$2) -> 11186.458 | G37: =SUMIFS(Отчетность!$G18:$W18,Отчетность!$G$1:$W$1,G$1,Отчетность!$G$2:$W$2,Отчетность!$G$2) -> 9107.4965 | H37: =SUMIFS(Отчетность!$G18:$W18,Отчетность!$G$1:$W$1,H$1,Отчетность!$G$2:$W$2,Отчетность!$G$2) -> 6580.5053 | I37: =SUMIFS(Отчетность!$G18:$W18,Отчетность!$G$1:$W$1,I$1,Отчетность!$G$2:$W$2,Отчетность!$G$2) -> 3508.9318
A38: Дебиторская задолженность | B38: тыс.руб. | E38: =SUMIFS(Отчетность!$G20:$W20,Отчетность!$G$1:$W$1,E$1,Отчетность!$G$2:$W$2,Отчетность!$G$2) -> 0 | F38: =SUMIFS(Отчетность!$G20:$W20,Отчетность!$G$1:$W$1,F$1,Отчетность!$G$2:$W$2,Отчетность!$G$2) -> 226.34897 | G38: =SUMIFS(Отчетность!$G20:$W20,Отчетность!$G$1:$W$1,G$1,Отчетность!$G$2:$W$2,Отчетность!$G$2) -> 485.38552 | H38: =SUMIFS(Отчетность!$G20:$W20,Отчетность!$G$1:$W$1,H$1,Отчетность!$G$2:$W$2,Отчетность!$G$2) -> 520.11994 | I38: =SUMIFS(Отчетность!$G20:$W20,Отчетность!$G$1:$W$1,I$1,Отчетность!$G$2:$W$2,Отчетность!$G$2) -> 543.99052
A39: Запасы | B39: тыс.руб. | E39: =SUMIFS(Отчетность!$G19:$W19,Отчетность!$G$1:$W$1,E$1,Отчетность!$G$2:$W$2,Отчетность!$G$2) -> 150 | F39: =SUMIFS(Отчетность!$G19:$W19,Отчетность!$G$1:$W$1,F$1,Отчетность!$G$2:$W$2,Отчетность!$G$2) -> 485.03351 | G39: =SUMIFS(Отчетность!$G19:$W19,Отчетность!$G$1:$W$1,G$1,Отчетность!$G$2:$W$2,Отчетность!$G$2) -> 1040.1118 | H39: =SUMIFS(Отчетность!$G19:$W19,Отчетность!$G$1:$W$1,H$1,Отчетность!$G$2:$W$2,Отчетность!$G$2) -> 1114.5427 | I39: =SUMIFS(Отчетность!$G19:$W19,Отчетность!$G$1:$W$1,I$1,Отчетность!$G$2:$W$2,Отчетность!$G$2) -> 1165.694
A40: ДЗ по НДС | B40: тыс.руб. | E40: =SUMIFS(Отчетность!$G21:$W21,Отчетность!$G$1:$W$1,E$1,Отчетность!$G$2:$W$2,Отчетность!$G$2) -> 0 | F40: =SUMIFS(Отчетность!$G21:$W21,Отчетность!$G$1:$W$1,F$1,Отчетность!$G$2:$W$2,Отчетность!$G$2) -> 0 | G40: =SUMIFS(Отчетность!$G21:$W21,Отчетность!$G$1:$W$1,G$1,Отчетность!$G$2:$W$2,Отчетность!$G$2) -> 0 | H40: =SUMIFS(Отчетность!$G21:$W21,Отчетность!$G$1:$W$1,H$1,Отчетность!$G$2:$W$2,Отчетность!$G$2) -> 0 | I40: =SUMIFS(Отчетность!$G21:$W21,Отчетность!$G$1:$W$1,I$1,Отчетность!$G$2:$W$2,Отчетность!$G$2) -> 0
A41: Денежные средства | B41: тыс.руб. | E41: =SUMIFS(Отчетность!$G22:$W22,Отчетность!$G$1:$W$1,E$1,Отчетность!$G$2:$W$2,Отчетность!$G$2) -> 1850 | F41: =SUMIFS(Отчетность!$G22:$W22,Отчетность!$G$1:$W$1,F$1,Отчетность!$G$2:$W$2,Отчетность!$G$2) -> 1931.2588 | G41: =SUMIFS(Отчетность!$G22:$W22,Отчетность!$G$1:$W$1,G$1,Отчетность!$G$2:$W$2,Отчетность!$G$2) -> 6295.7785 | H41: =SUMIFS(Отчетность!$G22:$W22,Отчетность!$G$1:$W$1,H$1,Отчетность!$G$2:$W$2,Отчетность!$G$2) -> 13808.158 | I41: =SUMIFS(Отчетность!$G22:$W22,Отчетность!$G$1:$W$1,I$1,Отчетность!$G$2:$W$2,Отчетность!$G$2) -> 20199.591
A42: Прочие активы (не моделируются) | B42: тыс.руб. | E42: 0 | F42: 0 | G42: 0 | H42: 0 | I42: 0
A43: Итого активы | B43: тыс.руб. | E43: =SUM(E37:E42) -> 2000 | F43: =SUM(F37:F42) -> 13829.1 | G43: =SUM(G37:G42) -> 16928.772 | H43: =SUM(H37:H42) -> 22023.326 | I43: =SUM(I37:I42) -> 25418.208
A44: Капитал и резервы | B44: тыс.руб. | E44: =SUMIFS(Отчетность!$G24:$W24,Отчетность!$G$1:$W$1,E$1,Отчетность!$G$2:$W$2,Отчетность!$G$2) -> 2000 | F44: =SUMIFS(Отчетность!$G24:$W24,Отчетность!$G$1:$W$1,F$1,Отчетность!$G$2:$W$2,Отчетность!$G$2) -> 11000 | G44: =SUMIFS(Отчетность!$G24:$W24,Отчетность!$G$1:$W$1,G$1,Отчетность!$G$2:$W$2,Отчетность!$G$2) -> 11000 | H44: =SUMIFS(Отчетность!$G24:$W24,Отчетность!$G$1:$W$1,H$1,Отчетность!$G$2:$W$2,Отчетность!$G$2) -> 11000 | I44: =SUMIFS(Отчетность!$G24:$W24,Отчетность!$G$1:$W$1,I$1,Отчетность!$G$2:$W$2,Отчетность!$G$2) -> 11000
A45: Нераспределенная прибыль | B45: тыс.руб. | E45: =SUMIFS(Отчетность!$G25:$W25,Отчетность!$G$1:$W$1,E$1,Отчетность!$G$2:$W$2,Отчетность!$G$2) -> 0 | F45: =SUMIFS(Отчетность!$G25:$W25,Отчетность!$G$1:$W$1,F$1,Отчетность!$G$2:$W$2,Отчетность!$G$2) -> -6965.7298 | G45: =SUMIFS(Отчетность!$G25:$W25,Отчетность!$G$1:$W$1,G$1,Отчетность!$G$2:$W$2,Отчетность!$G$2) -> -1032.5966 | H45: =SUMIFS(Отчетность!$G25:$W25,Отчетность!$G$1:$W$1,H$1,Отчетность!$G$2:$W$2,Отчетность!$G$2) -> 7362.8 | I45: =SUMIFS(Отчетность!$G25:$W25,Отчетность!$G$1:$W$1,I$1,Отчетность!$G$2:$W$2,Отчетность!$G$2) -> 13245.475
...

Sheet Инвестиционная оценка
A1: Показатель | B1: Ед. изм. | C1: Комментарий | G1: Год 0 | H1: Год 1 | L1: Год 2 | P1: Год 3 | T1: Год 4 | X1: Итого
G2: 4-й кв. | H2: 1-й кв. | I2: 2-й кв. | J2: 3-й кв. | K2: 4-й кв. | L2: 1-й кв. | M2: 2-й кв. | N2: 3-й кв. | O2: 4-й кв. | P2: 1-й кв. | Q2: 2-й кв. | R2: 3-й кв. | S2: 4-й кв. | T2: 1-й кв. | U2: 2-й кв. | V2: 3-й кв. | W2: 4-й кв.
A4: 1. СВОБОДНЫЙ ДЕНЕЖНЫЙ ПОТОК НА ФИРМУ (FCFF)
A5: Свободный денежный поток на фирму (FCFF) | B5: тыс.руб. | H5: =H6+H7+H8 -> -17357.494 | I5: =I6+I7+I8 -> -1796.9676 | J5: =J6+J7+J8 -> 1521.6073 | K5: =K6+K7+K8 -> 63.175363 | L5: =L6+L7+L8 -> 711.04847 | M5: =M6+M7+M8 -> 1710.6567 | N5: =N6+N7+N8 -> 2742.6467 | O5: =O6+O7+O8 -> 3142.6678 | ... W5: =W6+W7+W8 -> 2200.2286
A6: Операционный поток (CFO) | B6: тыс.руб. | H6: =Отчетность!H40 -> -4964.3687 | I6: =Отчетность!I40 -> -1378.0837 | J6: =Отчетность!J40 -> 1987.0091 | K6: =Отчетность!K40 -> 576.65751 | L6: =Отчетность!L40 -> 1274.2516 | M6: =Отчетность!M40 -> 2325.3035 | N6: =Отчетность!N40 -> 3410.5459 | O6: =Отчетность!O40 -> 3865.7187 | ... W6: =Отчетность!W40 -> 3437.6859
A7: Проценты * (1-T) | B7: тыс.руб. | H7: =-Отчетность!H12*(1-$D$22) -> 106.875 | I7: =-Отчетность!I12*(1-$D$22) -> 206.11607 | J7: =-Отчетность!J12*(1-$D$22) -> 190.84821 | K7: =-Отчетность!K12*(1-$D$22) -> 175.58036 | L7: =-Отчетность!L12*(1-$D$22) -> 160.3125 | M7: =-Отчетность!M12*(1-$D$22) -> 145.04464 | N7: =-Отчетность!N12*(1-$D$22) -> 129.77679 | O7: =-Отчетность!O12*(1-$D$22) -> 114.50893 | ... W7: =-Отчетность!W12*(1-$D$22) -> 0
A8: Инвестиционный поток (CFI) | B8: тыс.руб. | H8: =Отчетность!H43 -> -12500 | I8: =Отчетность!I43 -> -625 | J8: =Отчетность!J43 -> -656.25 | K8: =Отчетность!K43 -> -689.0625 | L8: =Отчетность!L43 -> -723.51562 | M8: =Отчетность!M43 -> -759.69141 | N8: =Отчетность!N43 -> -797.67598 | O8: =Отчетность!O43 -> -837.55978 | ... W8: =Отчетность!W43 -> -1237.4572
A10: Фактор дисконтирования | B10: x | G10: 1 | H10: =G10/(1+H24) -> 0.9773856 | I10: =H10/(1+I24) -> 0.95279588 | J10: =I10/(1+J24) -> 0.92976631 | K10: =J10/(1+K24) -> 0.90740693 | L10: =K10/(1+L24) -> 0.88504191 | M10: =L10/(1+M24) -> 0.86173624 | N10: =M10/(1+N24) -> 0.83700514 | O10: =N10/(1+O24) -> 0.81121883 | ... W10: =V10/(1+W24) -> 0.60455767
A11: Дисконтированный поток FCFF | B11: тыс.руб. | H11: =H5*H10 -> -16964.964 | I11: =I5*I10 -> -1712.1433 | J11: =J5*J10 -> 1414.7392 | K11: =K5*K10 -> 57.325762 | L11: =L5*L10 -> 629.3077 | M11: =M5*M10 -> 1474.1349 | N11: =N5*N10 -> 2295.6094 | O11: =O5*O10 -> 2549.3913 | ... W11: =W5*W10 -> 1330.1651
A13: 2. СТАВКА ДИСКОНТИРОВАНИЯ (WACC)
A14: Собственный капитал (E) на конец квартала | B14: тыс.руб. | G14: =Отчетность!G26 -> 2000 | H14: =Отчетность!H26 -> 3618.0938 | I14: =Отчетность!I26 -> 6066.5442 | J14: =Отчетность!J26 -> 4523.782 | K14: =Отчетность!K26 -> 4034.2702 | L14: =Отчетность!L26 -> 4186.3768 | M14: =Отчетность!M26 -> 5329.9244 | N14: =Отчетность!N26 -> 7496.074 | ... W14: =Отчетность!W26 -> 24245.475
A15: Долг (D) на конец квартала | B15: тыс.руб. | G15: =Отчетность!G27 -> 0 | H15: =Отчетность!H27 -> 11875 | I15: =Отчетность!I27 -> 11026.786 | J15: =Отчетность!J27 -> 10178.571 | K15: =Отчетность!K27 -> 9330.3571 | L15: =Отчетность!L27 -> 8482.1429 | M15: =Отчетность!M27 -> 7633.9286 | N15: =Отчетность!N27 -> 6785.7143 | ... W15: =Отчетность!W27 -> 0
A16: ВСЕГО капитал (E + D) | B16: тыс.руб. | G16: =G14+G15 -> 2000 | H16: =H14+H15 -> 15493.094 | I16: =I14+I15 -> 17093.33 | J16: =J14+J15 -> 14702.353 | K16: =K14+K15 -> 13364.627 | L16: =L14+L15 -> 12668.52 | M16: =M14+M15 -> 12963.853 | N16: =N14+N15 -> 14281.788 | ... W16: =W14+W15 -> 24245.475
A18: Доля собственного капитала (We) | B18: % | G18: =G14/G16 -> 1 | H18: =H14/H16 -> 0.23352946 | I18: =I14/I16 -> 0.3549071 | J18: =J14/J16 -> 0.30769101 | K18: =K14/K16 -> 0.30186178 | L18: =L14/L16 -> 0.33045509 | M18: =M14/M16 -> 0.41113737 | N18: =N14/N16 -> 0.52486942 | ... W18: =W14/W16 -> 1
A19: Доля долга (Wd) | B19: % | G19: =G15/G16 -> 0 | H19: =H15/H16 -> 0.76647054 | I19: =I15/I16 -> 0.6450929 | J19: =J15/J16 -> 0.69230899 | K19: =K15/K16 -> 0.69813822 | L19: =L15/L16 -> 0.66954491 | M19: =M15/M16 -> 0.58886263 | N19: =N15/N16 -> 0.47513058 | ... W19: =W15/W16 -> 0
A20: Стоимость собственного капитала (Re), годовых | B20: % | D20: 0.16
A21: Стоимость долга (Rd), годовых | B21: % | D21: =Допущения!$D$67 -> 0.09
A22: Ставка налога на прибыль (T) | B22: % | D22: =Допущения!$G$70 -> 0.2
A23: WACC, % годовых | B23: % | G23: =G18*$D$20+G19*$D$21*(1-$D$22) -> 0.16 | H23: =H18*$D$20+H19*$D$21*(1-$D$22) -> 0.092550592 | I23: =I18*$D$20+I19*$D$21*(1-$D$22) -> 0.10323183 | J23: =J18*$D$20+J19*$D$21*(1-$D$22) -> 0.099076809 | K23: =K18*$D$20+K19*$D$21*(1-$D$22) -> 0.098563837 | L23: =L18*$D$20+L19*$D$21*(1-$D$22) -> 0.10108005 | M23: =M18*$D$20+M19*$D$21*(1-$D$22) -> 0.10818009 | N23: =N18*$D$20+N19*$D$21*(1-$D$22) -> 0.11818851 | ... W23: =W18*$D$20+W19*$D$21*(1-$D$22) -> 0.16
A24: WACC за квартал | B24: % | G24: =G23/4 -> 0.04 | H24: =H23/4 -> 0.023137648 | I24: =I23/4 -> 0.025807956 | J24: =J23/4 -> 0.024769202 | K24: =K23/4 -> 0.024640959 | L24: =L23/4 -> 0.025270012 | M24: =M23/4 -> 0.027045022 | N24: =N23/4 -> 0.029547127 | ... W24: =W23/4 -> 0.04
A26: 3. СТОИМОСТЬ КОМПАНИИ (МЕТОД ДИСКОНТИРОВАННЫХ ДЕНЕЖНЫХ ПОТОКОВ)
A27: Темп роста в постпрогнозном периоде (g), годовых | B27: % | D27: 0.015
A28: Чистая приведённая стоимость потоков FCFF в модели | B28: тыс.руб. | X28: =SUM(H11:W11) -> 3891.6654
A29: Терминальная стоимость | B29: тыс.руб. | X29: =W5*(1+$D$27/4)/(W24-$D$27/4) -> 60923.572
A30: Дисконтированная терминальная стоимость | B30: тыс.руб. | X30: =X29*W10 -> 36831.813
A31: Стоимость компании (EV) | B31: тыс.руб. | X31: =X28+X30 -> 40723.478
A32: Долг на дату оценки (конец 4-го кв. Года 0) | B32: тыс.руб. | X32: =Отчетность!G27 -> 0
A33: Стоимость собственного капитала (Equity Value) | B33: тыс.руб. | X33: =X31-X32 -> 40723.478
A35: 4. ОЦЕНКА МЕТОДОМ МУЛЬТИПЛИКАТОРОВ (EV/EBITDA)
A36: Мультипликаторы EV/EBITDA сравнимых компаний | B36: x | G36: 5.5 | H36: 6.1 | I36: 5.4 | J36: 5.1 | K36: 6.2 | L36: 5.8 | M36: 6.8 | N36: 7 | O36: 5.9
A37: Среднее арифметическое мультипликатора (справочно) | B37: x | X37: =AVERAGE(G36:O36) -> 5.9777778
A38: Среднее гармоническое мультипликатора (для оценки) | B38: x | X38: =HARMEAN(G36:O36) -> 5.9205547
A39: EBITDA компании за Год 4 (выход на стабильный уровень) | B39: тыс.руб. | X39: ='Годовая отчетность'!I6 -> 15118.16
A40: Стоимость компании (EV) на конец Года 4 | B40: тыс.руб. | X40: =X38*X39 -> 89507.892
A41: Дисконтный множитель на конец Года 4 | B41: x | X41: =W10 -> 0.60455767
A42: Стоимость компании (EV) на дату оценки | B42: тыс.руб. | X42: =X40*X41 -> 54112.683
A43: Стоимость собственного капитала (Equity Value) | B43: тыс.руб. | X43: =X42-X32 -> 54112.683
A45: 5. СРАВНЕНИЕ РЕЗУЛЬТАТОВ ОЦЕНКИ
A46: Стоимость компании (EV), метод дисконтированных потоков | B46: тыс.руб. | X46: =X31 -> 40723.478
A47: Стоимость компании (EV), метод мультипликаторов | B47: тыс.руб. | X47: =X42 -> 54112.683
...

Sheet Анализ чувствительности
A1: Показатель | B1: Ед. изм. | C1: Значение
A3: Цена макетной продукции (базовая цена, Год 0) | B3: руб/кг | C3: 4000 | D3: 3000 | E3: 3200 | F3: 3400 | G3: 3600 | H3: 3800 | I3: 4000 | J3: 4200 | K3: 4400 | L3: 4600 | M3: 4800 | N3: 5000
A4: Стоимость компании (EV) | B4: тыс.руб. | C4: ='Инвестиционная оценка'!$X$31 -> 40723.478 | D4: -28258.283 | E4: -33626.989 | F4: -7905.6389 | G4: 10704.887 | H4: 25724.8 | I4: 40723.478 | J4: 55604.924 | K4: 70274.063 | L4: 85117.587 | M4: 99528.009 | N4: 114219.27
A5: Минимальный DSCR за период кредита | B5: x | C5: =MIN(Отчетность!$K$58:$W$58) -> 0.98626018 | D5: -1.6417183 | E5: -0.54452513 | F5: -0.071003904 | G5: 0.2963288 | H5: 0.64329099 | I5: 0.98626018 | J5: 1.2165333 | K5: 1.4045984 | L5: 1.5877147 | M5: 1.770831 | N5: 1.9539473
A7: Цена сувенирной продукции (базовая цена, Год 0) | B7: руб/кг | C7: 12000 | D7: 9000 | E7: 9500 | F7: 10000 | G7: 10500 | H7: 11000 | I7: 11500 | J7: 12000 | K7: 12500 | L7: 13000 | M7: 13500 | N7: 14000 | O7: 14500 | P7: 15000
A8: Стоимость компании (EV) | B8: тыс.руб. | C8: ='Инвестиционная оценка'!$X$31 -> 40723.478 | D8: 11550.157 | E8: 16168.662 | F8: 21121.435 | G8: 26012.519 | H8: 30997.983 | I8: 35793.302 | J8: 40723.478 | K8: 45640.517 | L8: 50320.669 | M8: 55198.029 | N8: 60065.514 | O8: 64923.924 | P8: 69773.955
A9: Минимальный DSCR за период кредита | B9: x | C9: =MIN(Отчетность!$K$58:$W$58) -> 0.98626018 | D9: 0.46980989 | E9: 0.55655044 | F9: 0.64329099 | G9: 0.73003154 | H9: 0.81677208 | I9: 0.90209001 | J9: 0.98626018 | K9: 1.0704303 | L9: 1.1202379 | M9: 1.1683856 | N9: 1.2165333 | O9: 1.2646811 | P9: 1.3128288
A12: Изменение EV при росте цены макетов на 1 000 руб/кг | B12: тыс.руб. | C12: =N4-I4 -> 73495.793
A13: Изменение EV при росте цены сувенирной прод. на 1 000 руб/кг | B13: тыс.руб. | C13: =L8-J8 -> 9597.1911
A14: Соотношение | B14: x | C14: =C12/C13 -> 7.6580524
