Workbook

Sheet Допущения
A1: Компания | B1: Ozon Holdings PLC (Группа Ozon)
A2: Ссылка на отчётность | B2: https://ir.ozon.com/
A3: Примечание | B3: Источники данных: консолидированная финансовая отчётность Ozon Holdings PLC за 2021-2023 гг.
C5: Факт | D5: Факт | E5: Факт | F5: Прогноз | G5: Прогноз | H5: Прогноз | I5: Прогноз | J5: Прогноз | L5: МЕТОДОЛОГИЯ И ИСТОЧНИКИ. 1) ИСТОРИЧЕСКИЕ ДАННЫЕ (2021-2023, факт). Выручка, себестоимость, операционные расходы по статьям (продажи и маркетинг, технологии и контент, общие и административные), неоперационный результат, налог на прибыль и амортизация взяты напрямую из консолидированного отчёта о прибыли или убытке Ozon Holdings PLC (аудированная отчётность по МСФО, прим. 4, 6-12). GMV, показатель оборота с учётом услуг, взят из пресс-релизов компании (corp.ozon.ru / ir.ozon.com), согласован с драйверной моделью операционных показателей Ozon. 2) ЛОГИКА ПРОГНОЗА (2024-2028). Выручка строится как GMV x take rate (доля выручки в GMV) - упрощённая, но прозрачная модель монетизации маркетплейса. Рост GMV на 2024-2027 гг. переиспользует драйверы модели операционных показателей Ozon (рост числа активных покупателей x частота заказов x средний чек), 2028 г. - консервативная экстраполяция дальнейшего замедления роста рынка e-commerce РФ. Take rate снижался в 2021-2023 гг. (40,0% -> 33,3% -> 24,2%) по мере роста доли комиссионной модели (3P) в GMV; в прогнозе снижение продолжается, но замедляется и стабилизируется на уровне ~21% по мере роста вклада высокомаржинальной рекламы и финтех-сервисов в выручку. Себестоимость и накладные расходы (продажи и маркетинг, технологии и контент, общие и административные) заданы как % от выручки: фактическая доля последовательно снижалась все три года (эффект операционного рычага при росте масштаба бизнеса) - в прогнозе тренд продолжается, но темп улучшения год от года снижается (экономика результата не может улучшаться бесконечно быстро). Разовые статьи (убыток от пожара на складе и т.п.) в прогнозе не закладываются по определению. 3) НАЛОГ НА ПРИБЫЛЬ. Особенность факта: несмотря на консолидированный убыток, Ozon платит небольшой налог на прибыль все три года (из-за прибыльных дочерних структур и невычитаемых расходов). Это сохранено в модели: пока прогнозная прибыль до налогообложения отрицательна, налог считается как минимальный % от выручки (на уровне факта 2023 г.); как только прибыль до налогообложения становится положительной (по модели - с 2027 г.), налог считается по стандартной ставке 20% (ст. 284 НК РФ). 4) ОТРИЦАТЕЛЬНЫЙ СОБСТВЕННЫЙ КАПИТАЛ У РЕАЛЬНОЙ КОМПАНИИ. Баланс в данной модели не строится, важно: у Ozon уже на конец 2022-2023 гг. отрицательный собственный капитал (накопленный убыток превысил эмиссионный доход) - это подтверждённый факт отчётности, а не ошибка. Прогноз в этой модели показывает последовательное сокращение чистого убытка и первую прогнозную чистую прибыль с 2027 г., что согласуется с постепенным восстановлением капитала компании в реальности. 5) ДЕНЕЖНЫЙ ПОТОК. На листе «Расчёты» приведён только укрупнённый операционный денежный поток и контроль минимального остатка денежных средств с добавлением финансирования при риске ухода в отрицательный остаток.
A6: Показатель | B6: Источник / комментарий | C6: 2021 | D6: 2022 | E6: 2023 | F6: =E6+1 -> 2024 | G6: =F6+1 -> 2025 | H6: =G6+1 -> 2026 | I6: =H6+1 -> 2027 | J6: =I6+1 -> 2028
A8: 1. ОБЪЁМ ПРОДАЖ И МОНЕТИЗАЦИЯ (ВЫРУЧКА)
A9: GMV, млрд руб. (оборот от продаж, включая услуги) | B9: corp.ozon.ru / ir.ozon.com — пресс-релизы Ozon Holdings PLC по итогам FY2021-FY2023; | C9: 445.5 | D9: 832.2 | E9: 1753 | F9: =E9*(1+F10) -> 2664.56 | G9: =F9*(1+G10) -> 3730.384 | H9: =G9*(1+H10) -> 4886.803 | I9: =H9*(1+I10) -> 6157.3718 | J9: =I9*(1+J10) -> 7388.8462
A10: Рост GMV, % г/г (драйвер объёма продаж) | B10: Прогноз согласован с драйверами модели операционных показателей Ozon (рост числа активных покупателей x частота заказов x средний чек); 2028 г. — консервативная экстраполяция дальнейшего замедления роста рынка e-commerce РФ | D10: =D9/C9-1 -> 0.86801347 | E10: =E9/D9-1 -> 1.1064648 | F10: 0.52 | G10: 0.4 | H10: 0.31 | I10: 0.26 | J10: 0.2
A12: Take rate — доля выручки в GMV, % (драйвер цены/монетизации) | B12: Факт — расчёт от отчётности (Итого выручка / GMV); прогноз — постепенная стабилизация по мере роста доли рекламы и финтех-сервисов в структуре выручки | C12: =C15/(C9*1000) -> 0.40003367 | D12: =D15/(D9*1000) -> 0.33299087 | E12: =E15/(E9*1000) -> 0.24203708 | F12: 0.23 | G12: 0.22 | H12: 0.215 | I12: 0.212 | J12: 0.21
A14: 2. ВЫРУЧКА И СЕБЕСТОИМОСТЬ
A15: Выручка (итого), млн руб. | B15: Консолидированная фин. отчётность Ozon, (за 2023, 2022, 2021 гг.) | C15: 178215 | D15: 277115 | E15: 424291 | F15: =F9*1000*F12 -> 612848.8 | G15: =G9*1000*G12 -> 820684.48 | H15: =H9*1000*H12 -> 1050662.7 | I15: =I9*1000*I12 -> 1305362.8 | J15: =J9*1000*J12 -> 1551657.7
A16: Себестоимость, млн руб. | B16: Консолидированная фин. отчётность Ozon | C16: -188827 | D16: -244424 | E16: -379849 | F16: =-F15*F17 -> -536242.7 | G16: =-G15*G17 -> -705788.65 | H16: =-H15*H17 -> -893063.26 | I16: =-I15*I17 -> -1100420.9 | J16: =-J15*J17 -> -1300289.2
A17: Себестоимость, % от выручки (драйвер издержек) | B17: Факт — расчёт от отчётности; прогноз — постепенное снижение доли себестоимости по мере роста маржинальности услуг (маркетплейс, реклама, финтех) в структуре выручки | C17: =-C16/C15 -> 1.0595461 | D17: =-D16/D15 -> 0.88203093 | E17: =-E16/E15 -> 0.89525585 | F17: 0.875 | G17: 0.86 | H17: 0.85 | I17: 0.843 | J17: 0.838
A19: 3. НАКЛАДНЫЕ (ОПЕРАЦИОННЫЕ) РАСХОДЫ
A20: Продажи и маркетинг, млн руб. | B20: Консолидированная фин. отчётность Ozon | C20: -24121 | D20: -24642 | E20: -30680 | F20: =-F15*F21 -> -41673.718 | G20: =-G15*G21 -> -52523.807 | H20: =-H15*H21 -> -64090.422 | I20: =-I15*I21 -> -77016.407 | J20: =-J15*J21 -> -88444.489
A21: Продажи и маркетинг, % от выручки | B21: Факт — расчёт; прогноз — эффект операционного рычага при росте масштаба бизнеса | C21: =-C20/C15 -> 0.13534775 | D21: =-D20/D15 -> 0.088923371 | E21: =-E20/E15 -> 0.072308863 | F21: 0.068 | G21: 0.064 | H21: 0.061 | I21: 0.059 | J21: 0.057
A23: Технологии и контент, млн руб. | B23: Консолидированная фин. отчётность Ozon | C23: -12583 | D23: -22206 | E23: -26862 | F23: =-F15*F24 -> -36770.928 | G23: =-G15*G24 -> -46779.015 | H23: =-H15*H24 -> -57786.446 | I23: =-I15*I24 -> -69184.23 | J23: =-J15*J24 -> -80686.2
A24: Технологии и контент, % от выручки | B24: Факт — расчёт; прогноз — эффект операционного рычага при росте масштаба бизнеса | C24: =-C23/C15 -> 0.070605729 | D24: =-D23/D15 -> 0.080132797 | E24: =-E23/E15 -> 0.063310322 | F24: 0.06 | G24: 0.057 | H24: 0.055 | I24: 0.053 | J24: 0.052
A26: Общие и административные, млн руб. | B26: Консолидированная фин. отчётность Ozon | C26: -11540 | D26: -19827 | E26: -18881 | F26: =-F15*F27 -> -24513.952 | G26: =-G15*G27 -> -29544.641 | H26: =-H15*H27 -> -34671.868 | I26: =-I15*I27 -> -40466.248 | J26: =-J15*J27 -> -44998.073
A27: Общие и административные, % от выручки | B27: Факт — расчёт; прогноз — эффект операционного рычага при росте масштаба бизнеса | C27: =-C26/C15 -> 0.064753247 | D27: =-D26/D15 -> 0.071547913 | E27: =-E26/E15 -> 0.044500119 | F27: 0.04 | G27: 0.036 | H27: 0.033 | I27: 0.031 | J27: 0.029
A29: Разовые/неоперационные статьи в опер. расходах (убыток от пожара на складе и пр.), млн руб. | B29: Консолидированная фин. отчётность Ozon, в прогнозе разовые статьи не закладываются по определению | C29: 0 | D29: -10165 | E29: -774 | F29: 0 | G29: 0 | H29: 0 | I29: 0 | J29: 0
A31: 4. НЕОПЕРАЦИОННЫЕ СТАТЬИ И НАЛОГИ
A32: Неоперационные доходы/(расходы), нетто, млн руб. (проценты, ожид. кредитные убытки, курсовые разницы, доля в СП) | B32: Консолидированная фин. отчётность Ozon, (сумма всех неоперационных статей отчёта) | C32: 2079 | D32: -13013 | E32: -8243 | F32: =F15*F33 -> -9192.732 | G32: =G15*G33 -> -9848.2138 | H32: =H15*H33 -> -10506.627 | I32: =I15*I33 -> -10442.903 | J32: =J15*J33 -> -9309.9462
A33: Неоперационные доходы/(расходы), % от выручки | B33: Факт — расчёт; прогноз — постепенное снижение долговой/валютной нагрузки по мере приближения к операционной прибыльности | C33: =C32/C15 -> 0.011665685 | D33: =D32/D15 -> -0.046958844 | E33: =E32/E15 -> -0.019427704 | F33: -0.015 | G33: -0.012 | H33: -0.01 | I33: -0.008 | J33: -0.006
A35: Ставка налога на прибыль при прибыли до налогообложения > 0, % | B35: Ст. 284 НК РФ — стандартная ставка налога на прибыль организаций в РФ | C35: 0.2 | D35: 0.2 | E35: 0.2 | F35: 0.2 | G35: 0.2 | H35: 0.2 | I35: 0.2 | J35: 0.2
A36: Расход по налогу на прибыль, млн руб. (факт) | B36: Консолидированная фин. отчётность Ozon | C36: -2 | D36: -1025 | E36: -1667
A37: Минимальный налог при убытке до налогообложения, % от выручки | B37: Факт — расчёт от факт. расхода по налогу: несмотря на консолидированный убыток, компания платит небольшой налог из-за прибыльных дочерних структур/невычитаемых расходов; в прогнозе ставка удерживается на уровне факта 2023 г. | C37: =-C36/C15 -> 1.12224e-05 | D37: =-D36/D15 -> 0.0036988254 | E37: =-E36/E15 -> 0.0039289073 | F37: 0.004 | G37: 0.004 | H37: 0.004 | I37: 0.004 | J37: 0.004
A39: 5. СПРАВОЧНО: АМОРТИЗАЦИЯ (ДЛЯ РАСЧЁТА EBITDA)
A40: Амортизация, млн руб. | B40: Консолидированная фин. отчётность Ozon, справочная информация | C40: 9880 | D40: 19770 | E40: 28082 | F40: =F15*F41 -> 39835.172 | G40: =G15*G41 -> 51703.122 | H40: =H15*H41 -> 64090.422 | I40: =I15*I41 -> 78321.77 | J40: =J15*J41 -> 91547.804
A41: Амортизация, % от выручки | B41: Факт — расчёт; прогноз — стабилизация по мере замедления темпа капитальных инвестиций в логистическую инфраструктуру относительно роста выручки | C41: =C40/C15 -> 0.055438656 | D41: =D40/D15 -> 0.071342223 | E41: =E40/E15 -> 0.066185707 | F41: 0.065 | G41: 0.063 | H41: 0.061 | I41: 0.06 | J41: 0.059
A43: 6. ДЕНЕЖНЫЕ СРЕДСТВА (ДЛЯ КОНТРОЛЯ МИНИМАЛЬНОГО ОСТАТКА)
A44: Денежные средства и их эквиваленты на конец периода, млн руб. (факт) | B44: Консолидированная фин. отчётность Ozon (баланс) | C44: 108037 | D44: 90469 | E44: 169814
A45: Минимальный допустимый остаток денежных средств, млн руб. | B45: Экспертное допущение: ориентир — около 1 месяца операционных расходов (маркетинг + технологии + G&A) для обеспечения операционной устойчивости | C45: 5000 | D45: 5000 | E45: 5000 | F45: 5000 | G45: 5000 | H45: 5000 | I45: 5000 | J45: 5000

Sheet Расчёты
C1: Факт | D1: Факт | E1: Факт | F1: Прогноз | G1: Прогноз | H1: Прогноз | I1: Прогноз | J1: Прогноз
A2: Показатель, млн руб. | C2: =Допущения!C6 -> 2021 | D2: =Допущения!D6 -> 2022 | E2: =Допущения!E6 -> 2023 | F2: =Допущения!F6 -> 2024 | G2: =Допущения!G6 -> 2025 | H2: =Допущения!H6 -> 2026 | I2: =Допущения!I6 -> 2027 | J2: =Допущения!J6 -> 2028
A4: ОТЧЁТ О ПРИБЫЛЯХ И УБЫТКАХ
A5: Выручка | C5: =Допущения!C15 -> 178215 | D5: =Допущения!D15 -> 277115 | E5: =Допущения!E15 -> 424291 | F5: =Допущения!F15 -> 612848.8 | G5: =Допущения!G15 -> 820684.48 | H5: =Допущения!H15 -> 1050662.7 | I5: =Допущения!I15 -> 1305362.8 | J5: =Допущения!J15 -> 1551657.7
A6: Себестоимость | C6: =Допущения!C16 -> -188827 | D6: =Допущения!D16 -> -244424 | E6: =Допущения!E16 -> -379849 | F6: =Допущения!F16 -> -536242.7 | G6: =Допущения!G16 -> -705788.65 | H6: =Допущения!H16 -> -893063.26 | I6: =Допущения!I16 -> -1100420.9 | J6: =Допущения!J16 -> -1300289.2
A7: Валовая прибыль/(убыток) | C7: =C5+C6 -> -10612 | D7: =D5+D6 -> 32691 | E7: =E5+E6 -> 44442 | F7: =F5+F6 -> 76606.1 | G7: =G5+G6 -> 114895.83 | H7: =H5+H6 -> 157599.4 | I7: =I5+I6 -> 204941.96 | J7: =J5+J6 -> 251368.55
A8: Валовая маржа, % | C8: =C7/C5 -> -0.059546054 | D8: =D7/D5 -> 0.11796907 | E8: =E7/E5 -> 0.10474415 | F8: =F7/F5 -> 0.125 | G8: =G7/G5 -> 0.14 | H8: =H7/H5 -> 0.15 | I8: =I7/I5 -> 0.157 | J8: =J7/J5 -> 0.162
A10: Продажи и маркетинг | C10: =Допущения!C20 -> -24121 | D10: =Допущения!D20 -> -24642 | E10: =Допущения!E20 -> -30680 | F10: =Допущения!F20 -> -41673.718 | G10: =Допущения!G20 -> -52523.807 | H10: =Допущения!H20 -> -64090.422 | I10: =Допущения!I20 -> -77016.407 | J10: =Допущения!J20 -> -88444.489
A11: Технологии и контент | C11: =Допущения!C23 -> -12583 | D11: =Допущения!D23 -> -22206 | E11: =Допущения!E23 -> -26862 | F11: =Допущения!F23 -> -36770.928 | G11: =Допущения!G23 -> -46779.015 | H11: =Допущения!H23 -> -57786.446 | I11: =Допущения!I23 -> -69184.23 | J11: =Допущения!J23 -> -80686.2
A12: Общие и административные | C12: =Допущения!C26 -> -11540 | D12: =Допущения!D26 -> -19827 | E12: =Допущения!E26 -> -18881 | F12: =Допущения!F26 -> -24513.952 | G12: =Допущения!G26 -> -29544.641 | H12: =Допущения!H26 -> -34671.868 | I12: =Допущения!I26 -> -40466.248 | J12: =Допущения!J26 -> -44998.073
A13: Разовые и неоперационные статьи | C13: =Допущения!C29 -> 0 | D13: =Допущения!D29 -> -10165 | E13: =Допущения!E29 -> -774 | F13: =Допущения!F29 -> 0 | G13: =Допущения!G29 -> 0 | H13: =Допущения!H29 -> 0 | I13: =Допущения!I29 -> 0 | J13: =Допущения!J29 -> 0
A14: Итого операционные расходы | C14: =SUM(C10:C13) -> -48244 | D14: =SUM(D10:D13) -> -76840 | E14: =SUM(E10:E13) -> -77197 | F14: =SUM(F10:F13) -> -102958.6 | G14: =SUM(G10:G13) -> -128847.46 | H14: =SUM(H10:H13) -> -156548.74 | I14: =SUM(I10:I13) -> -186666.88 | J14: =SUM(J10:J13) -> -214128.76
A15: Операционная прибыль/(убыток) | C15: =C7+C14 -> -58856 | D15: =D7+D14 -> -44149 | E15: =E7+E14 -> -32755 | F15: =F7+F14 -> -26352.498 | G15: =G7+G14 -> -13951.636 | H15: =H7+H14 -> 1050.6627 | I15: =I7+I14 -> 18275.08 | J15: =J7+J14 -> 37239.785
A16: Операционная маржа, % | C16: =C15/C5 -> -0.33025278 | D16: =D15/D5 -> -0.15931653 | E16: =E15/E5 -> -0.077199375 | F16: =F15/F5 -> -0.043 | G16: =G15/G5 -> -0.017 | H16: =H15/H5 -> 0.001 | I16: =I15/I5 -> 0.014 | J16: =J15/J5 -> 0.024
A17: Неоперационные доходы/(расходы), нетто | C17: =Допущения!C32 -> 2079 | D17: =Допущения!D32 -> -13013 | E17: =Допущения!E32 -> -8243 | F17: =Допущения!F32 -> -9192.732 | G17: =Допущения!G32 -> -9848.2138 | H17: =Допущения!H32 -> -10506.627 | I17: =Допущения!I32 -> -10442.903 | J17: =Допущения!J32 -> -9309.9462
A18: Прибыль/(убыток) до налогообложения | C18: =C15+C17 -> -56777 | D18: =D15+D17 -> -57162 | E18: =E15+E17 -> -40998 | F18: =F15+F17 -> -35545.23 | G18: =G15+G17 -> -23799.85 | H18: =H15+H17 -> -9455.9639 | I18: =I15+I17 -> 7832.177 | J18: =J15+J17 -> 27929.839
A19: Налог на прибыль | C19: =Допущения!C36 -> -2 | D19: =Допущения!D36 -> -1025 | E19: =Допущения!E36 -> -1667 | F19: =IF(F18>0,-F18*Допущения!F$35,-F5*Допущения!F$37) -> -2451.3952 | G19: =IF(G18>0,-G18*Допущения!G$35,-G5*Допущения!G$37) -> -3282.7379 | H19: =IF(H18>0,-H18*Допущения!H$35,-H5*Допущения!H$37) -> -4202.6506 | I19: =IF(I18>0,-I18*Допущения!I$35,-I5*Допущения!I$37) -> -1566.4354 | J19: =IF(J18>0,-J18*Допущения!J$35,-J5*Допущения!J$37) -> -5585.9677
A20: Чистая прибыль/(убыток) | C20: =C18+C19 -> -56779 | D20: =D18+D19 -> -58187 | E20: =E18+E19 -> -42665 | F20: =F18+F19 -> -37996.626 | G20: =G18+G19 -> -27082.588 | H20: =H18+H19 -> -13658.614 | I20: =I18+I19 -> 6265.7416 | J20: =J18+J19 -> 22343.871
A21: Чистая маржа, % | C21: =C20/C5 -> -0.31859832 | D21: =D20/D5 -> -0.2099742 | E21: =E20/E5 -> -0.10055599 | F21: =F20/F5 -> -0.062 | G21: =G20/G5 -> -0.033 | H21: =H20/H5 -> -0.013 | I21: =I20/I5 -> 0.0048 | J21: =J20/J5 -> 0.0144
A23: Справочно: амортизация | C23: =Допущения!C40 -> 9880 | D23: =Допущения!D40 -> 19770 | E23: =Допущения!E40 -> 28082 | F23: =Допущения!F40 -> 39835.172 | G23: =Допущения!G40 -> 51703.122 | H23: =Допущения!H40 -> 64090.422 | I23: =Допущения!I40 -> 78321.77 | J23: =Допущения!J40 -> 91547.804
A24: Справочно: EBITDA | C24: =C15+C23 -> -48976 | D24: =D15+D23 -> -24379 | E24: =E15+E23 -> -4673 | F24: =F15+F23 -> 13482.674 | G24: =G15+G23 -> 37751.486 | H24: =H15+H23 -> 65141.085 | I24: =I15+I23 -> 96596.849 | J24: =J15+J23 -> 128787.59
A25: Справочно: маржа EBITDA, % | C25: =C24/C5 -> -0.27481413 | D25: =D24/D5 -> -0.087974307 | E25: =E24/E5 -> -0.011013668 | F25: =F24/F5 -> 0.022 | G25: =G24/G5 -> 0.046 | H25: =H24/H5 -> 0.062 | I25: =I24/I5 -> 0.074 | J25: =J24/J5 -> 0.083
A27: Проверка: факт. чистая прибыль по отчётности минус расчёт (должно быть 0) | C27: =-56779-C20 -> 0 | D27: =-58187-D20 -> 0 | E27: =-42665-E20 -> 0
A30: ОПЕРАЦИОННЫЙ ДЕНЕЖНЫЙ ПОТОК И ОСТАТОК ДЕНЕЖНЫХ СРЕДСТВ (ПО ЖЕЛАНИЮ)
A31: Инвестиционная и прочая балансовая часть не детализируется: нет надёжных источников по капзатратам и движению лизинга на прогнозный период. Ниже — укрупнённый операционный денежный поток и контроль минимального остатка денежных средств с добавлением финансирования при риске ухода в отрицательный остаток.
A32: Чистая прибыль/(убыток) | C32: =C20 -> -56779 | D32: =D20 -> -58187 | E32: =E20 -> -42665 | F32: =F20 -> -37996.626 | G32: =G20 -> -27082.588 | H32: =H20 -> -13658.614 | I32: =I20 -> 6265.7416 | J32: =J20 -> 22343.871
A33: + Амортизация (неденежная статья) | C33: =C23 -> 9880 | D33: =D23 -> 19770 | E33: =E23 -> 28082 | F33: =F23 -> 39835.172 | G33: =G23 -> 51703.122 | H33: =H23 -> 64090.422 | I33: =I23 -> 78321.77 | J33: =J23 -> 91547.804
A34: Операционный денежный поток (укрупнённо) | C34: =C32+C33 -> -46899 | D34: =D32+D33 -> -38417 | E34: =E32+E33 -> -14583 | F34: =F32+F33 -> 1838.5464 | G34: =G32+G33 -> 24620.534 | H34: =H32+H33 -> 50431.807 | I34: =I32+I33 -> 84587.511 | J34: =J32+J33 -> 113891.68
A36: Дополнительное краткосрочное финансирование (если остаток риск. упасть ниже минимума) | F36: =MAX(Допущения!F$45-(E37+F34),0) -> 0 | G36: =MAX(Допущения!G$45-(F37+G34),0) -> 0 | H36: =MAX(Допущения!H$45-(G37+H34),0) -> 0 | I36: =MAX(Допущения!I$45-(H37+I34),0) -> 0 | J36: =MAX(Допущения!J$45-(I37+J34),0) -> 0
A37: Денежные средства на конец периода | C37: 108037 | D37: 90469 | E37: 169814 | F37: =E37+F34+F36 -> 171652.55 | G37: =F37+G34+G36 -> 196273.08 | H37: =G37+H34+H36 -> 246704.89 | I37: =H37+I34+I36 -> 331292.4 | J37: =I37+J34+J36 -> 445184.07
A38: Проверка: остаток минус минимально допустимый (должно быть ≥ 0) | F38: =F37-Допущения!F$45 -> 166652.55 | G38: =G37-Допущения!G$45 -> 191273.08 | H38: =H37-Допущения!H$45 -> 241704.89 | I38: =I37-Допущения!I$45 -> 326292.4 | J38: =J37-Допущения!J$45 -> 440184.07

Sheet Оценка
A1: ОЦЕНКА СТОИМОСТИ КОМПАНИИ OZON HOLDINGS PLC (ГРУППА OZON)
A2: Дата оценки | B2: 31 декабря 2021 г.
A3: Единицы измерения | B3: млн руб., если не указано иное
A4: Применённые подходы | B4: затратный, сравнительный, доходный
A7: 0. ИСХОДНЫЕ ДАННЫЕ НА ДАТУ ОЦЕНКИ (31.12.2021)
A8: Показатель | B8: Источник / комментарий | C8: Значение
A9: Денежные средства и их эквиваленты | B9: Консолидированная финансовая отчётность Ozon Holdings PLC по МСФО, отчёт о финансовом положении на 31.12.2021 | C9: 108037
A10: Краткосрочные финансовые вложения (банковские депозиты) | C10: 17954
A11: Долгосрочные кредиты и займы | C11: 50577
A12: Краткосрочные кредиты и займы | C12: 11539
A13: Обязательства по аренде, долгосрочные (МСФО 16) | C13: 34770
A14: Обязательства по аренде, краткосрочные (МСФО 16) | C14: 7697
A15: Долг (Debt) — кредиты, займы и обязательства по аренде | B15: Сумма строк 11-14 | C15: =SUM(C11:C14) -> 104583
A16: Чистый долг (Net Debt) | B16: Долг - денежные средства - краткосрочные финансовые вложения | C16: =C15-C9-C10 -> -21408
A17: Цена одной ADS Ozon на закрытие торгов 31.12.2021, долл. США | B17: NASDAQ, тикер OZON (1 ADS = 1 обыкновенная акция) | C17: 29.61
A18: Количество акций в обращении на 31.12.2021, млн шт. | B18: Форма 20-F Ozon Holdings PLC за 2021 г.: 216 413 733 обыкновенных акции | C18: 216.41373
A19: Официальный курс доллара США Банка России на 31.12.2021, руб. | B19: cbr.ru, официальные курсы валют на заданную дату | C19: 74.2926
A20: Капитализация (рыночная стоимость Equity) на дату оценки | B20: Цена акции * количество акций * курс доллара | C20: =C17*C18*C19 -> 476067.77
A21: Котировка акции, руб. | B21: Капитализация / количество акций — контроль пересчёта | C21: =C20/C18 -> 2199.8039
A22: Рыночная стоимость компании (EV) = капитализация + чистый долг | B22: Строка 20 + строка 16 | C22: =C20+C16 -> 454659.77
A24: 1. ЗАТРАТНЫЙ ПОДХОД - МЕТОД СКОРРЕКТИРОВАННЫХ ЧИСТЫХ АКТИВОВ
A25: Статья баланса на 31.12.2021 | B25: Корректировка и её обоснование | C25: Балансовая стоимость | D25: Корректировка | E25: Рыночная (скорректированная) стоимость
A26: Денежные средства и их эквиваленты | B26: Не корректируются | C26: 108037 | D26: 0 | E26: =C26+D26 -> 108037
A27: Краткосрочные финансовые вложения | B27: Банковские депозиты, не корректируются | C27: 17954 | D27: 0 | E27: =C27+D27 -> 17954
A28: Дебиторская задолженность | B28: Дополнительный резерв 5% под ожидаемые кредитные убытки: часть задолженности продавцов и партнёров при взыскании будет потеряна | C28: 6611 | D28: =-0.05*C28 -> -330.55 | E28: =C28+D28 -> 6280.45
A29: Запасы | B29: Уценка 10% в собственных товарных запасах всегда есть неликвид и сезонные остатки, реализуемые ниже себестоимости | C29: 26362 | D29: =-0.1*C29 -> -2636.2 | E29: =C29+D29 -> 23725.8
A30: Прочие оборотные активы | B30: Оснований для корректировки нет | C30: 7622 | D30: 0 | E30: =C30+D30 -> 7622
A31: Активы в форме права пользования (МСФО 16) | B31: Не корректируются: отражают арендованные склады и ПВЗ симметрично обязательствам по аренде в пассиве | C31: 39940 | D31: 0 | E31: =C31+D31 -> 39940
A32: Основные средства | B32: Без независимой оценки объектов логистической инфраструктуры корректировка не вводится | C32: 29970 | D32: 0 | E32: =C32+D32 -> 29970
A33: Прочие внеоборотные активы | B33: Оснований для корректировки нет | C33: 4842 | D33: 0 | E33: =C33+D33 -> 4842
A34: Активы | B34: Сумма строк 26-33 | C34: =SUM(C26:C33) -> 241338 | D34: =SUM(D26:D33) -> -2966.75 | E34: =SUM(E26:E33) -> 238371.25
A36: Долгосрочные обязательства | C36: 86794 | D36: 0 | E36: =C36+D36 -> 86794
A37: Кредиторская задолженность | C37: 89273 | D37: 0 | E37: =C37+D37 -> 89273
A38: Прочие краткосрочные обязательства | C38: 34663 | D38: 0 | E38: =C38+D38 -> 34663
A39: Обязательства | B39: Сумма строк 36-38 | C39: =SUM(C36:C38) -> 210730 | D39: =SUM(D36:D38) -> 0 | E39: =SUM(E36:E38) -> 210730
A40: Проверка: балансовые активы - балансовые обязательства - собственный капитал по отчётности (30 608) = 0 | B40: Контроль сходимости баланса на дату оценки | C40: =C34-C39-30608 -> 0
A41: Акционерный капитал (Equity) - затратный подход | B41: Скорректированные активы (строка 34) - обязательства (строка 39) | C41: =E34-E39 -> 27641.25
A42: Стоимость компании (EV) = Equity + чистый долг | B42: Строка 41 + чистый долг (строка 16) | C42: =C41+C16 -> 6233.25
A43: Результат — около 28 млрд руб., примерно 6% фактической капитализации, а EV падает до 6 млрд руб., потому что почти весь баланс компании — это деньги (126,0 млрд руб.), а не операционные активы. Подход дополнительно занижен тем, что Ozon не признаёт отложенный налоговый актив по накопленным налоговым убыткам. По матрице применимости затратный подход не подходит обычному работающему бизнесу, так как не позволяет учесть НМА, — для платформенной компании это проявляется в максимальной степени. Вывод: это оценка «пола» — сколько стоит имущество, если бизнес остановить, — а не стоимости действующего бизнеса.
A45: 2. СРАВНИТЕЛЬНЫЙ ПОДХОД - МЕТОД МУЛЬТИПЛИКАТОРОВ
...
