Workbook

Sheet Предпосылки
A1: Выбранный сценарий | C1: 1
A3: Параметр | B3: Размерность | C3: Значение | I3: Сценарий 1 | J3: Сценарий 2
A4: Объемные показатели
A5: Начальные типовые продажи в месяц | B5: шт | C5: =OFFSET(H5,0,$C$1) -> 50 | I5: 50 | J5: 50
A6: Прирост типовых продаж | B6: % | C6: =OFFSET(H6,0,$C$1) -> 0.01 | I6: 0.01 | J6: 0.01604034
A7: Комиссионный доход компании | B7: % | C7: =OFFSET(H7,0,$C$1) -> 0.05 | I7: 0.05 | J7: 0.05
A9: Сезонность по месяцам
A10: 1 | C10: =OFFSET(H10,0,$C$1) -> 1 | I10: 1 | J10: 1
A11: 2 | C11: =OFFSET(H11,0,$C$1) -> 1 | I11: 1 | J11: 1
A12: 3 | C12: =OFFSET(H12,0,$C$1) -> 1 | I12: 1 | J12: 1
A13: 4 | C13: =OFFSET(H13,0,$C$1) -> 1 | I13: 1 | J13: 1
A14: 5 | C14: =OFFSET(H14,0,$C$1) -> 2 | I14: 2 | J14: 2
A15: 6 | C15: =OFFSET(H15,0,$C$1) -> 1 | I15: 1 | J15: 1
A16: 7 | C16: =OFFSET(H16,0,$C$1) -> 1 | I16: 1 | J16: 1
A17: 8 | C17: =OFFSET(H17,0,$C$1) -> 1.5 | I17: 1.5 | J17: 1.5
A18: 9 | C18: =OFFSET(H18,0,$C$1) -> 1 | I18: 1 | J18: 1
A19: 10 | C19: =OFFSET(H19,0,$C$1) -> 1 | I19: 1 | J19: 1
A20: 11 | C20: =OFFSET(H20,0,$C$1) -> 1 | I20: 1 | J20: 1
A21: 12 | C21: =OFFSET(H21,0,$C$1) -> 2 | I21: 2 | J21: 2
A23: Начальный средний чек | B23: тыс. руб. | C23: =OFFSET(H23,0,$C$1) -> 100 | I23: 100 | J23: 100
A24: Прирост среднего чека | B24: % | C24: =OFFSET(H24,0,$C$1) -> 0.003 | I24: 0.003 | J24: 0
A25: Период прироста среднего чека | B25: мес. | C25: =OFFSET(H25,0,$C$1) -> 1 | I25: 1 | J25: 1
A26: Сдвиг месяца прироста (1=январь) | B26: мес. | C26: =OFFSET(H26,0,$C$1) -> 1 | I26: 1 | J26: 1
A28: Ставка НДС по продажам | C28: =OFFSET(H28,0,$C$1) -> 0.2 | I28: 0.2 | J28: 0.2
A30: Воронка продаж
A31: Конверсия от флаера до звонка | C31: =OFFSET(H31,0,$C$1) -> 0.005 | I31: 0.005 | J31: 0.005
A32: Конверсия от звонка до согласия | C32: =OFFSET(H32,0,$C$1) -> 0.2 | I32: 0.2 | J32: 0.2
A33: Конверсия от согласия до оплаты | C33: =OFFSET(H33,0,$C$1) -> 0.8 | I33: 0.8 | J33: 0.8
A35: Переменные расходы
A37: Стоимость печати флаера с учетом НДС | B37: руб. | C37: =OFFSET(H37,0,$C$1) -> 0.75 | I37: 0.75 | J37: 0.75
A38: Ставка НДС по печати флаера | B38: % | C38: =OFFSET(H38,0,$C$1) -> 0.2 | I38: 0.2 | J38: 0.2
A39: Прирост стоимости печати флаера | B39: % | C39: =OFFSET(H39,0,$C$1) -> 0.05 | I39: 0.05 | J39: 0.1
A40: Период прироста стоимости печати флаера | B40: мес. | C40: =OFFSET(H40,0,$C$1) -> 12 | I40: 12 | J40: 12
A41: Сдвиг месяца прироста (1=январь) | B41: мес. | C41: =OFFSET(H41,0,$C$1) -> 1 | I41: 1 | J41: 1
A43: Стоимость распространения флаера | B43: руб. | C43: =OFFSET(H43,0,$C$1) -> 0.4 | I43: 0.4 | J43: 0.4
A44: Прирост стоимости распространения флаера | B44: % | C44: =OFFSET(H44,0,$C$1) -> 0.05 | I44: 0.05 | J44: 0.1
A45: Период прироста стоимости распространения флаера | B45: мес. | C45: =OFFSET(H45,0,$C$1) -> 12 | I45: 12 | J45: 12
A46: Сдвиг месяца прироста (1=январь) | B46: мес. | C46: =OFFSET(H46,0,$C$1) -> 1 | I46: 1 | J46: 1
A48: Среднее время одного звонка | B48: мин. | C48: =OFFSET(H48,0,$C$1) -> 15 | I48: 15 | J48: 15
A49: Прирост времени одного звонка | B49: % | C49: =OFFSET(H49,0,$C$1) -> 0 | I49: 0 | J49: 0
...

Sheet Расчеты
I1: 45992 | J1: 46023 | K1: 46054 | L1: 46082 | M1: 46113 | N1: 46143 | O1: 46174 | P1: 46204 | Q1: 46235 | R1: 46266 | S1: 46296 | T1: 46327 | U1: 46357 | V1: 46388 | W1: 46419 | X1: 46447 | Y1: 46478 | Z1: 46508 | AA1: 46539 | AB1: 46569 | AC1: 46600 | AD1: 46631 | AE1: 46661 | AF1: 46692 | AG1: 46722 | AH1: 46753 | AI1: 46784 | AJ1: 46813 | AK1: 46844 | AL1: 46874 | AM1: 46905 | AN1: 46935 | AO1: 46966 | AP1: 46997 | AQ1: 47027 | AR1: 47058 | AS1: 47088 | AT1: 47119
B2: Объемные показатели
B3: Кол-во продаж без сезонности | C3: шт. | J3: =IF(J$1=DATE(2026,1,1),Предпосылки!$C5,I3*Предпосылки!$C$6+I3) -> 50 | K3: =IF(K$1=DATE(2026,1,1),Предпосылки!$C5,J3*Предпосылки!$C$6+J3) -> 50.5 | L3: =IF(L$1=DATE(2026,1,1),Предпосылки!$C5,K3*Предпосылки!$C$6+K3) -> 51.005 | M3: =IF(M$1=DATE(2026,1,1),Предпосылки!$C5,L3*Предпосылки!$C$6+L3) -> 51.51505 | N3: =IF(N$1=DATE(2026,1,1),Предпосылки!$C5,M3*Предпосылки!$C$6+M3) -> 52.0302 | O3: =IF(O$1=DATE(2026,1,1),Предпосылки!$C5,N3*Предпосылки!$C$6+N3) -> 52.550503 | P3: =IF(P$1=DATE(2026,1,1),Предпосылки!$C5,O3*Предпосылки!$C$6+O3) -> 53.076008 | Q3: =IF(Q$1=DATE(2026,1,1),Предпосылки!$C5,P3*Предпосылки!$C$6+P3) -> 53.606768 | ... AT3: =IF(AT$1=DATE(2026,1,1),Предпосылки!$C5,AS3*Предпосылки!$C$6+AS3) -> 71.538439
B5: Сезонность | J5: =OFFSET(Предпосылки!$C$9,MONTH(J$1),0) -> 1 | K5: =OFFSET(Предпосылки!$C$9,MONTH(K$1),0) -> 1 | L5: =OFFSET(Предпосылки!$C$9,MONTH(L$1),0) -> 1 | M5: =OFFSET(Предпосылки!$C$9,MONTH(M$1),0) -> 1 | N5: =OFFSET(Предпосылки!$C$9,MONTH(N$1),0) -> 2 | O5: =OFFSET(Предпосылки!$C$9,MONTH(O$1),0) -> 1 | P5: =OFFSET(Предпосылки!$C$9,MONTH(P$1),0) -> 1 | Q5: =OFFSET(Предпосылки!$C$9,MONTH(Q$1),0) -> 1.5 | ... AT5: =OFFSET(Предпосылки!$C$9,MONTH(AT$1),0) -> 1
B7: Кол-во продаж с учетом сезонности | C7: шт. | J7: =J3*J5 -> 50 | K7: =K3*K5 -> 50.5 | L7: =L3*L5 -> 51.005 | M7: =M3*M5 -> 51.51505 | N7: =N3*N5 -> 104.0604 | O7: =O3*O5 -> 52.550503 | P7: =P3*P5 -> 53.076008 | Q7: =Q3*Q5 -> 80.410151 | ... AT7: =AT3*AT5 -> 71.538439
B9: Средний чек с учетом НДС | C9: тыс. руб. | J9: =IF(J$1=DATE(2026,1,1),Предпосылки!$C23,I9*Предпосылки!$C$24+I9) -> 100 | K9: =IF(K$1=DATE(2026,1,1),Предпосылки!$C23,J9*Предпосылки!$C$24+J9) -> 100.3 | L9: =IF(L$1=DATE(2026,1,1),Предпосылки!$C23,K9*Предпосылки!$C$24+K9) -> 100.6009 | M9: =IF(M$1=DATE(2026,1,1),Предпосылки!$C23,L9*Предпосылки!$C$24+L9) -> 100.9027 | N9: =IF(N$1=DATE(2026,1,1),Предпосылки!$C23,M9*Предпосылки!$C$24+M9) -> 101.20541 | O9: =IF(O$1=DATE(2026,1,1),Предпосылки!$C23,N9*Предпосылки!$C$24+N9) -> 101.50903 | P9: =IF(P$1=DATE(2026,1,1),Предпосылки!$C23,O9*Предпосылки!$C$24+O9) -> 101.81355 | Q9: =IF(Q$1=DATE(2026,1,1),Предпосылки!$C23,P9*Предпосылки!$C$24+P9) -> 102.11899 | ... AT9: =IF(AT$1=DATE(2026,1,1),Предпосылки!$C23,AS9*Предпосылки!$C$24+AS9) -> 111.38676
B11: Средний чек без учета НДС | C11: тыс. руб. | J11: =J9/(1+Предпосылки!$C$28) -> 83.333333 | K11: =K9/(1+Предпосылки!$C$28) -> 83.583333 | L11: =L9/(1+Предпосылки!$C$28) -> 83.834083 | M11: =M9/(1+Предпосылки!$C$28) -> 84.085586 | N11: =N9/(1+Предпосылки!$C$28) -> 84.337842 | O11: =O9/(1+Предпосылки!$C$28) -> 84.590856 | P11: =P9/(1+Предпосылки!$C$28) -> 84.844628 | Q11: =Q9/(1+Предпосылки!$C$28) -> 85.099162 | ... AT11: =AT9/(1+Предпосылки!$C$28) -> 92.822304
B13: Объем продаж в деньгах с учетом НДС | J13: =J7*J9 -> 5000 | K13: =K7*K9 -> 5065.15 | L13: =L7*L9 -> 5131.1489 | M13: =M7*M9 -> 5198.0078 | N13: =N7*N9 -> 10531.476 | O13: =O7*O9 -> 5334.3504 | P13: =P7*P9 -> 5403.857 | Q13: =Q7*Q9 -> 8211.4038 | ... AT13: =AT7*AT9 -> 7968.4353
B15: Объем продаж в деньгах без учета НДС | C15: тыс. руб. | J15: =J7*J11 -> 4166.6667 | K15: =K7*K11 -> 4220.9583 | L15: =L7*L11 -> 4275.9574 | M15: =M7*M11 -> 4331.6731 | N15: =N7*N11 -> 8776.2297 | O15: =O7*O11 -> 4445.292 | P15: =P7*P11 -> 4503.2141 | Q15: =Q7*Q11 -> 6842.8365 | ... AT15: =AT7*AT11 -> 6640.3627
B17: Отчет о прибылях и убытках | C17: тыс. руб.
B18: Выручка | J18: =J15*Предпосылки!$C$7 -> 208.33333 | K18: =K15*Предпосылки!$C$7 -> 211.04792 | L18: =L15*Предпосылки!$C$7 -> 213.79787 | M18: =M15*Предпосылки!$C$7 -> 216.58366 | N18: =N15*Предпосылки!$C$7 -> 438.81148 | O18: =O15*Предпосылки!$C$7 -> 222.2646 | P18: =P15*Предпосылки!$C$7 -> 225.16071 | Q18: =Q15*Предпосылки!$C$7 -> 342.14183 | ... AT18: =AT15*Предпосылки!$C$7 -> 332.01814
B19: Переменные расходы | J19: =SUM(J20:J24) -> -69.390625 | K19: =SUM(K20:K24) -> -70.084531 | L19: =SUM(L20:L24) -> -70.785377 | M19: =SUM(M20:M24) -> -71.49323 | N19: =SUM(N20:N24) -> -144.41633 | O19: =SUM(O20:O24) -> -72.930244 | P19: =SUM(P20:P24) -> -73.659547 | Q19: =SUM(Q20:Q24) -> -111.59421 | ... AT19: =SUM(AT20:AT24) -> -114.87487
B20: =B54 -> Расходы на печать флаеров без учета НДС | J20: =-J54 -> -39.0625 | K20: =-K54 -> -39.453125 | L20: =-L54 -> -39.847656 | M20: =-M54 -> -40.246133 | N20: =-N54 -> -81.297188 | O20: =-O54 -> -41.05508 | P20: =-P54 -> -41.465631 | Q20: =-Q54 -> -62.820431 | ... AT20: =-AT54 -> -64.698973
B21: =B59 -> Расходы на распространение флаеров | J21: =-J59 -> -25 | K21: =-K59 -> -25.25 | L21: =-L59 -> -25.5025 | M21: =-M59 -> -25.757525 | N21: =-N59 -> -52.030201 | O21: =-O59 -> -26.275251 | P21: =-P59 -> -26.538004 | Q21: =-Q59 -> -40.205076 | ... AT21: =-AT59 -> -41.407343
B22: =B70 -> Расходы на звонки без учета НДС | J22: =-J70 -> -5.078125 | K22: =-K70 -> -5.1289063 | L22: =-L70 -> -5.1801953 | M22: =-M70 -> -5.2319973 | N22: =-N70 -> -10.568634 | O22: =-O70 -> -5.3371604 | P22: =-P70 -> -5.390532 | Q22: =-Q70 -> -8.166656 | ... AT22: =-AT70 -> -8.4108665
B23: =B77 -> Расход бумаги | J23: =-J77 -> -0.125 | K23: =-K77 -> -0.12625 | L23: =-L77 -> -0.1275125 | M23: =-M77 -> -0.12878762 | N23: =-N77 -> -0.260151 | O23: =-O77 -> -0.13137626 | P23: =-P77 -> -0.13269002 | Q23: =-Q77 -> -0.20102538 | ... AT23: =-AT77 -> -0.1788461
B24: =B86 -> Расход краски без учета НДС | J24: =-J86 -> -0.125 | K24: =-K86 -> -0.12625 | L24: =-L86 -> -0.1275125 | M24: =-M86 -> -0.12878762 | N24: =-N86 -> -0.260151 | O24: =-O86 -> -0.13137626 | P24: =-P86 -> -0.13269002 | Q24: =-Q86 -> -0.20102538 | ... AT24: =-AT86 -> -0.1788461
B25: Валовая прибыль | J25: =SUM(J18:J19) -> 138.94271 | K25: =SUM(K18:K19) -> 140.96339 | L25: =SUM(L18:L19) -> 143.01249 | M25: =SUM(M18:M19) -> 145.09043 | N25: =SUM(N18:N19) -> 294.39516 | O25: =SUM(O18:O19) -> 149.33435 | P25: =SUM(P18:P19) -> 151.50116 | Q25: =SUM(Q18:Q19) -> 230.54761 | ... AT25: =SUM(AT18:AT19) -> 217.14326
B26: Постоянные расходы | J26: =SUM(J27:J29) -> -117.25862 | K26: =SUM(K27:K29) -> -117.25862 | L26: =SUM(L27:L29) -> -117.25862 | M26: =SUM(M27:M29) -> -117.25862 | N26: =SUM(N27:N29) -> -117.25862 | O26: =SUM(O27:O29) -> -117.25862 | P26: =SUM(P27:P29) -> -117.25862 | Q26: =SUM(Q27:Q29) -> -117.25862 | ... AT26: =SUM(AT27:AT29) -> -119.22893
B27: =B97 -> ФОТ, включая налоги | J27: =-J97 -> -104.75862 | K27: =-K97 -> -104.75862 | L27: =-L97 -> -104.75862 | M27: =-M97 -> -104.75862 | N27: =-N97 -> -104.75862 | O27: =-O97 -> -104.75862 | P27: =-P97 -> -104.75862 | Q27: =-Q97 -> -104.75862 | ... AT27: =-AT97 -> -104.75862
B28: =B91 -> Доступ к системе поиска туров без учета НДС | J28: =-J91 -> -8.3333333 | K28: =-K91 -> -8.3333333 | L28: =-L91 -> -8.3333333 | M28: =-M91 -> -8.3333333 | N28: =-N91 -> -8.3333333 | O28: =-O91 -> -8.3333333 | P28: =-P91 -> -8.3333333 | Q28: =-Q91 -> -8.3333333 | ... AT28: =-AT91 -> -9.646875
B29: =B95 -> Аренда офиса без учета НДС | J29: =-J95 -> -4.1666667 | K29: =-K95 -> -4.1666667 | L29: =-L95 -> -4.1666667 | M29: =-M95 -> -4.1666667 | N29: =-N95 -> -4.1666667 | O29: =-O95 -> -4.1666667 | P29: =-P95 -> -4.1666667 | Q29: =-Q95 -> -4.1666667 | ... AT29: =-AT95 -> -4.8234375
B30: EBITDA | J30: =SUM(J18+J19+J26) -> 21.684088 | K30: =SUM(K18+K19+K26) -> 23.704765 | L30: =SUM(L18+L19+L26) -> 25.753874 | M30: =SUM(M18+M19+M26) -> 27.831806 | N30: =SUM(N18+N19+N26) -> 177.13654 | O30: =SUM(O18+O19+O26) -> 32.075734 | P30: =SUM(P18+P19+P26) -> 34.242539 | Q30: =SUM(Q18+Q19+Q26) -> 113.28899 | ... AT30: =SUM(AT18+AT19+AT26) -> 97.914328
B31: Амортизация | J31: =-J105 -> -15 | K31: =-K105 -> -15 | L31: =-L105 -> -15 | M31: =-M105 -> -15 | N31: =-N105 -> -15 | O31: =-O105 -> -15 | P31: =-P105 -> -15 | Q31: =-Q105 -> -15 | ... AT31: =-AT105 -> -15
B32: EBIT / Прибыль до налогообложения | J32: =SUM(J30,J31) -> 6.6840876 | K32: =SUM(K30,K31) -> 8.7047647 | L32: =SUM(L30,L31) -> 10.753874 | M32: =SUM(M30,M31) -> 12.831806 | N32: =SUM(N30,N31) -> 162.13654 | O32: =SUM(O30,O31) -> 17.075734 | P32: =SUM(P30,P31) -> 19.242539 | Q32: =SUM(Q30,Q31) -> 98.288992 | ... AT32: =SUM(AT30,AT31) -> 82.914328
B33: Налог на прибыль | J33: =-J151 -> 0 | K33: =-K151 -> 0 | L33: =-L151 -> 0 | M33: =-M151 -> 0 | N33: =-N151 -> -10.222214 | O33: =-O151 -> -3.4151468 | P33: =-P151 -> -3.8485079 | Q33: =-Q151 -> -19.657798 | ... AT33: =-AT151 -> -16.582866
B34: Чистая прибыль | J34: =SUM(J32,J33) -> 6.6840876 | K34: =SUM(K32,K33) -> 8.7047647 | L34: =SUM(L32,L33) -> 10.753874 | M34: =SUM(M32,M33) -> 12.831806 | N34: =SUM(N32,N33) -> 151.91432 | O34: =SUM(O32,O33) -> 13.660587 | P34: =SUM(P32,P33) -> 15.394032 | Q34: =SUM(Q32,Q33) -> 78.631194 | ... AT34: =SUM(AT32,AT33) -> 66.331463
B36: Воронка продаж
B37: Количество розданных флаеров | C37: шт. | J37: =J39/J38 -> 62500 | K37: =K39/K38 -> 63125 | L37: =L39/L38 -> 63756.25 | M37: =M39/M38 -> 64393.812 | N37: =N39/N38 -> 130075.5 | O37: =O39/O38 -> 65688.128 | P37: =P39/P38 -> 66345.009 | Q37: =Q39/Q38 -> 100512.69 | ... AT37: =AT39/AT38 -> 89423.049
B38: Конверсия от флаера до звонка | J38: =Предпосылки!$C31 -> 0.005 | K38: =Предпосылки!$C31 -> 0.005 | L38: =Предпосылки!$C31 -> 0.005 | M38: =Предпосылки!$C31 -> 0.005 | N38: =Предпосылки!$C31 -> 0.005 | O38: =Предпосылки!$C31 -> 0.005 | P38: =Предпосылки!$C31 -> 0.005 | Q38: =Предпосылки!$C31 -> 0.005 | ... AT38: =Предпосылки!$C31 -> 0.005
B39: Количество звонков | C39: шт. | J39: =J41/J40 -> 312.5 | K39: =K41/K40 -> 315.625 | L39: =L41/L40 -> 318.78125 | M39: =M41/M40 -> 321.96906 | N39: =N41/N40 -> 650.37751 | O39: =O41/O40 -> 328.44064 | P39: =P41/P40 -> 331.72505 | Q39: =Q41/Q40 -> 502.56345 | ... AT39: =AT41/AT40 -> 447.11524
B40: Конверсия от звонка до согласия | J40: =Предпосылки!$C32 -> 0.2 | K40: =Предпосылки!$C32 -> 0.2 | L40: =Предпосылки!$C32 -> 0.2 | M40: =Предпосылки!$C32 -> 0.2 | N40: =Предпосылки!$C32 -> 0.2 | O40: =Предпосылки!$C32 -> 0.2 | P40: =Предпосылки!$C32 -> 0.2 | Q40: =Предпосылки!$C32 -> 0.2 | ... AT40: =Предпосылки!$C32 -> 0.2
B41: Количество согласившихся | C41: шт. | J41: =J43/J42 -> 62.5 | K41: =K43/K42 -> 63.125 | L41: =L43/L42 -> 63.75625 | M41: =M43/M42 -> 64.393812 | N41: =N43/N42 -> 130.0755 | O41: =O43/O42 -> 65.688128 | P41: =P43/P42 -> 66.345009 | Q41: =Q43/Q42 -> 100.51269 | ... AT41: =AT43/AT42 -> 89.423049
B42: Конверсия от согласия до оплаты | J42: =Предпосылки!$C33 -> 0.8 | K42: =Предпосылки!$C33 -> 0.8 | L42: =Предпосылки!$C33 -> 0.8 | M42: =Предпосылки!$C33 -> 0.8 | N42: =Предпосылки!$C33 -> 0.8 | O42: =Предпосылки!$C33 -> 0.8 | P42: =Предпосылки!$C33 -> 0.8 | Q42: =Предпосылки!$C33 -> 0.8 | ... AT42: =Предпосылки!$C33 -> 0.8
B43: Количество оплаченных туров | C43: шт. | J43: =J7 -> 50 | K43: =K7 -> 50.5 | L43: =L7 -> 51.005 | M43: =M7 -> 51.51505 | N43: =N7 -> 104.0604 | O43: =O7 -> 52.550503 | P43: =P7 -> 53.076008 | Q43: =Q7 -> 80.410151 | ... AT43: =AT7 -> 71.538439
B45: Переменные расходы
B46: Стоимость печати флаера с учетом НДС | C46: руб. | J46: =IF(J$1=DATE(2026,1,1),Предпосылки!C37,IF(MOD(MONTH(J$1),Предпосылки!$C40)=Предпосылки!$C41,I46*Предпосылки!$C39+I46,I46)) -> 0.75 | K46: =IF(K$1=DATE(2026,1,1),Предпосылки!C39,IF(MOD(MONTH(K$1),Предпосылки!$C40)=Предпосылки!$C41,J46*Предпосылки!$C39+J46,J46)) -> 0.75 | L46: =IF(L$1=DATE(2026,1,1),Предпосылки!C40,IF(MOD(MONTH(L$1),Предпосылки!$C40)=Предпосылки!$C41,K46*Предпосылки!$C39+K46,K46)) -> 0.75 | M46: =IF(M$1=DATE(2026,1,1),Предпосылки!C41,IF(MOD(MONTH(M$1),Предпосылки!$C40)=Предпосылки!$C41,L46*Предпосылки!$C39+L46,L46)) -> 0.75 | N46: =IF(N$1=DATE(2026,1,1),H46,IF(MOD(MONTH(N$1),Предпосылки!$C40)=Предпосылки!$C41,M46*Предпосылки!$C39+M46,M46)) -> 0.75 | O46: =IF(O$1=DATE(2026,1,1),I46,IF(MOD(MONTH(O$1),Предпосылки!$C40)=Предпосылки!$C41,N46*Предпосылки!$C39+N46,N46)) -> 0.75 | P46: =IF(P$1=DATE(2026,1,1),J46,IF(MOD(MONTH(P$1),Предпосылки!$C40)=Предпосылки!$C41,O46*Предпосылки!$C39+O46,O46)) -> 0.75 | Q46: =IF(Q$1=DATE(2026,1,1),K46,IF(MOD(MONTH(Q$1),Предпосылки!$C40)=Предпосылки!$C41,P46*Предпосылки!$C39+P46,P46)) -> 0.75 | R46: =IF(R$1=DATE(2026,1,1),L46,IF(MOD(MONTH(R$1),Предпосылки!$C40)=Предпосылки!$C41,Q46*Предпосылки!$C39+Q46,Q46)) -> 0.75 | S46: =IF(S$1=DATE(2026,1,1),M46,IF(MOD(MONTH(S$1),Предпосылки!$C40)=Предпосылки!$C41,R46*Предпосылки!$C39+R46,R46)) -> 0.75 | T46: =IF(T$1=DATE(2026,1,1),N46,IF(MOD(MONTH(T$1),Предпосылки!$C40)=Предпосылки!$C41,S46*Предпосылки!$C39+S46,S46)) -> 0.75 | U46: =IF(U$1=DATE(2026,1,1),O46,IF(MOD(MONTH(U$1),Предпосылки!$C40)=Предпосылки!$C41,T46*Предпосылки!$C39+T46,T46)) -> 0.75 | ... AT46: =IF(AT$1=DATE(2026,1,1),AN46,IF(MOD(MONTH(AT$1),Предпосылки!$C40)=Предпосылки!$C41,AS46*Предпосылки!$C39+AS46,AS46)) -> 0.86821875
B48: Стоимость печати флаера без учета НДС | C48: руб. | J48: =J46/(1+Предпосылки!$C$38) -> 0.625 | K48: =K46/(1+Предпосылки!$C$38) -> 0.625 | L48: =L46/(1+Предпосылки!$C$38) -> 0.625 | M48: =M46/(1+Предпосылки!$C$38) -> 0.625 | N48: =N46/(1+Предпосылки!$C$38) -> 0.625 | O48: =O46/(1+Предпосылки!$C$38) -> 0.625 | P48: =P46/(1+Предпосылки!$C$38) -> 0.625 | Q48: =Q46/(1+Предпосылки!$C$38) -> 0.625 | ... AT48: =AT46/(1+Предпосылки!$C$38) -> 0.72351563
B50: Драйвер расходов - количество розданных флаеров | C50: шт. | J50: =J37 -> 62500 | K50: =K37 -> 63125 | L50: =L37 -> 63756.25 | M50: =M37 -> 64393.812 | N50: =N37 -> 130075.5 | O50: =O37 -> 65688.128 | P50: =P37 -> 66345.009 | Q50: =Q37 -> 100512.69 | ... AT50: =AT37 -> 89423.049
B52: Расходы на печать флаеров с учетом НДС | C52: тыс. руб. | J52: =J46*J50/1000 -> 46.875 | K52: =K46*K50/1000 -> 47.34375 | L52: =L46*L50/1000 -> 47.817188 | M52: =M46*M50/1000 -> 48.295359 | N52: =N46*N50/1000 -> 97.556626 | O52: =O46*O50/1000 -> 49.266096 | P52: =P46*P50/1000 -> 49.758757 | Q52: =Q46*Q50/1000 -> 75.384517 | ... AT52: =AT46*AT50/1000 -> 77.638768
...

Sheet За 3 года на одном листе
B2: Объёмные показатели
B3: Статья | C3: ед. изм. | D3: 2026 | E3: 2027 | F3: 2028
B4: Количество | C4: шт. | D4: ='Объемы и ОПУ по годам'!C3 -> 768.74215 | E4: ='Объемы и ОПУ по годам'!D3 -> 866.2379 | F4: ='Объемы и ОПУ по годам'!E3 -> 976.09855
B6: Средний чек | C6: тыс. руб. | D6: ='Объемы и ОПУ по годам'!C5 -> 101.8031 | E6: ='Объемы и ОПУ по годам'!D5 -> 105.52909 | F6: ='Объемы и ОПУ по годам'!E5 -> 109.39146
B8: Объем продаж с учетом НДС | C8: тыс. руб. | D8: ='Объемы и ОПУ по годам'!C7 -> 78260.336 | E8: ='Объемы и ОПУ по годам'!D7 -> 91413.3 | F8: ='Объемы и ОПУ по годам'!E7 -> 106776.84
B10: Отчет о прибылях и убытках | F10: тыс. руб.
B11: Статья | D11: 2026 | E11: 2027 | F11: 2028
B12: Выручка | D12: ='Объемы и ОПУ по годам'!C11 -> 3260.8473 | E12: ='Объемы и ОПУ по годам'!D11 -> 3808.8875 | F12: ='Объемы и ОПУ по годам'!E11 -> 4449.0351
B13: Переменные расходы | D13: ='Объемы и ОПУ по годам'!C12 -> -1066.87 | E13: ='Объемы и ОПУ по годам'!D12 -> -1262.068 | F13: ='Объемы и ОПУ по годам'!E12 -> -1492.9923
B14: Расходы на печать флаеров без учета НДС | D14: ='Объемы и ОПУ по годам'!C13 -> -600.57981 | E14: ='Объемы и ОПУ по годам'!D13 -> -710.58578 | F14: ='Объемы и ОПУ по годам'!E13 -> -840.74113
B15: Расходы на распространение флаеров | D15: ='Объемы и ОПУ по годам'!C14 -> -384.37108 | E15: ='Объемы и ОПУ по годам'!D14 -> -454.7749 | F15: ='Объемы и ОПУ по годам'!E14 -> -538.07432
B16: Расходы на звонки без учета НДС | D16: ='Объемы и ОПУ по годам'!C15 -> -78.075375 | E16: ='Объемы и ОПУ по годам'!D15 -> -92.376151 | F16: ='Объемы и ОПУ по годам'!E15 -> -109.29635
B17: Расход бумаги | D17: ='Объемы и ОПУ по годам'!C16 -> -1.9218554 | E17: ='Объемы и ОПУ по годам'!D16 -> -2.1655947 | F17: ='Объемы и ОПУ по годам'!E16 -> -2.4402464
B18: Расход краски без учета НДС | D18: ='Объемы и ОПУ по годам'!C17 -> -1.9218554 | E18: ='Объемы и ОПУ по годам'!D17 -> -2.1655947 | F18: ='Объемы и ОПУ по годам'!E17 -> -2.4402464
B19: Валовая прибыль | D19: ='Объемы и ОПУ по годам'!C18 -> 2193.9774 | E19: ='Объемы и ОПУ по годам'!D18 -> 2546.8195 | F19: ='Объемы и ОПУ по годам'!E18 -> 2956.0428
B20: Постоянные расходы | D20: ='Объемы и ОПУ по годам'!C19 -> -1407.1034 | E20: ='Объемы и ОПУ по годам'!D19 -> -1414.6034 | F20: ='Объемы и ОПУ по годам'!E19 -> -1422.4784
B21: ФОТ, включая налоги | D21: ='Объемы и ОПУ по годам'!C20 -> -1257.1034 | E21: ='Объемы и ОПУ по годам'!D20 -> -1257.1034 | F21: ='Объемы и ОПУ по годам'!E20 -> -1257.1034
B22: Доступ к системе поиска туров без учета НДС | D22: ='Объемы и ОПУ по годам'!C21 -> -100 | E22: ='Объемы и ОПУ по годам'!D21 -> -105 | F22: ='Объемы и ОПУ по годам'!E21 -> -110.25
B23: Аренда офиса без учета НДС | D23: ='Объемы и ОПУ по годам'!C22 -> -50 | E23: ='Объемы и ОПУ по годам'!D22 -> -52.5 | F23: ='Объемы и ОПУ по годам'!E22 -> -55.125
... B28: Чистая прибыль | D28: ='Объемы и ОПУ по годам'!C27 -> 515.49913 | E28: ='Объемы и ОПУ по годам'!D27 -> 761.77285 | F28: ='Объемы и ОПУ по годам'!E27 -> 1082.8515
B30: Баланс | F30: тыс. руб.
B31: Статья | C31: 2025 | D31: 2026 | E31: 2027 | F31: 2028
B32: Активы | C32: ='Баланс по годам'!B3 -> 350 | D32: ='Баланс по годам'!C3 -> 1365.4991 | E32: ='Баланс по годам'!D3 -> 2127.272 | F32: ='Баланс по годам'!E3 -> 3210.1234
B33: Внеоборотные активы | C33: ='Баланс по годам'!B4 -> 180 | D33: ='Баланс по годам'!C4 -> 0 | E33: ='Баланс по годам'!D4 -> 180 | F33: ='Баланс по годам'!E4 -> 0
B34: Основные средства | C34: ='Баланс по годам'!B5 -> 180 | D34: ='Баланс по годам'!C5 -> 0 | E34: ='Баланс по годам'!D5 -> 180 | F34: ='Баланс по годам'!E5 -> 0
B35: Оборотные активы | C35: ='Баланс по годам'!B6 -> 170 | D35: ='Баланс по годам'!C6 -> 1365.4991 | E35: ='Баланс по годам'!D6 -> 1947.272 | F35: ='Баланс по годам'!E6 -> 3210.1234
B36: Запасы | C36: ='Баланс по годам'!B7 -> 0 | D36: ='Баланс по годам'!C7 -> 0 | E36: ='Баланс по годам'!D7 -> 0 | F36: ='Баланс по годам'!E7 -> 0
B37: Дебиторская задолженность | C37: ='Баланс по годам'!B8 -> 0 | D37: ='Баланс по годам'!C8 -> 0 | E37: ='Баланс по годам'!D8 -> 0 | F37: ='Баланс по годам'!E8 -> 0
B38: Денежные средства | C38: ='Баланс по годам'!B9 -> 170 | D38: ='Баланс по годам'!C9 -> 1365.4991 | E38: ='Баланс по годам'!D9 -> 1947.272 | F38: ='Баланс по годам'!E9 -> 3210.1234
C39: 0 | D39: 0 | E39: 0 | F39: 0
B40: Пассивы | C40: ='Баланс по годам'!B11 -> 350 | D40: ='Баланс по годам'!C11 -> 1365.4991 | E40: ='Баланс по годам'!D11 -> 2127.272 | F40: ='Баланс по годам'!E11 -> 3210.1234
B41: Капитал и резервы | C41: ='Баланс по годам'!B12 -> -50 | D41: ='Баланс по годам'!C12 -> 1165.4991 | E41: ='Баланс по годам'!D12 -> 1927.272 | F41: ='Баланс по годам'!E12 -> 3010.1234
B42: Уставный капитал | C42: ='Баланс по годам'!B13 -> 100 | D42: ='Баланс по годам'!C13 -> 800 | E42: ='Баланс по годам'!D13 -> 800 | F42: ='Баланс по годам'!E13 -> 800
B43: Нераспределенная прибыль | C43: ='Баланс по годам'!B14 -> -150 | D43: ='Баланс по годам'!C14 -> 365.49913 | E43: ='Баланс по годам'!D14 -> 1127.272 | F43: ='Баланс по годам'!E14 -> 2210.1234
B44: Долгосрочные обязательства | C44: ='Баланс по годам'!B15 -> 0 | D44: ='Баланс по годам'!C15 -> 0 | E44: ='Баланс по годам'!D15 -> 0 | F44: ='Баланс по годам'!E15 -> 0
B45: Заемные средства | C45: ='Баланс по годам'!B16 -> 0 | D45: ='Баланс по годам'!C16 -> 0 | E45: ='Баланс по годам'!D16 -> 0 | F45: ='Баланс по годам'!E16 -> 0
B46: Краткосрочные обязательства | C46: ='Баланс по годам'!B17 -> 400 | D46: ='Баланс по годам'!C17 -> 200 | E46: ='Баланс по годам'!D17 -> 200 | F46: ='Баланс по годам'!E17 -> 200
B47: Заемные средства | C47: ='Баланс по годам'!B18 -> 200 | D47: ='Баланс по годам'!C18 -> 0 | E47: ='Баланс по годам'!D18 -> 0 | F47: ='Баланс по годам'!E18 -> 0
B48: Кредиторская задолженность | C48: ='Баланс по годам'!B19 -> 200 | D48: ='Баланс по годам'!C19 -> 200 | E48: ='Баланс по годам'!D19 -> 200 | F48: ='Баланс по годам'!E19 -> 200
B51: Отчет о движении денежных средств | F51: тыс. руб.
...

Sheet Объемы 1 год
L1: УТВЕРЖДАЮ | O1: _______________________
O2: дата
A4: Статья | B4: ед. изм. | C4: 46023 | D4: 46054 | E4: 46082 | F4: 46113 | G4: 46143 | H4: 46174 | I4: 46204 | J4: 46235 | K4: 46266 | L4: 46296 | M4: 46327 | N4: 46357 | O4: Итого 2026
A5: Количество | B5: шт. | C5: =Расчеты!J7 -> 50 | D5: =Расчеты!K7 -> 50.5 | E5: =Расчеты!L7 -> 51.005 | F5: =Расчеты!M7 -> 51.51505 | G5: =Расчеты!N7 -> 104.0604 | H5: =Расчеты!O7 -> 52.550503 | I5: =Расчеты!P7 -> 53.076008 | J5: =Расчеты!Q7 -> 80.410151 | ... N5: =Расчеты!U7 -> 111.56683 | O5: =SUM(C5:N5) -> 768.74215
A7: Средний чек | B7: тыс. руб. | C7: =Расчеты!J9 -> 100 | D7: =Расчеты!K9 -> 100.3 | E7: =Расчеты!L9 -> 100.6009 | F7: =Расчеты!M9 -> 100.9027 | G7: =Расчеты!N9 -> 101.20541 | H7: =Расчеты!O9 -> 101.50903 | I7: =Расчеты!P9 -> 101.81355 | J7: =Расчеты!Q9 -> 102.11899 | ... N7: =Расчеты!U9 -> 103.34995 | O7: =O9/O5 -> 101.8031
A9: Объем продаж с учетом НДС | B9: тыс. руб. | C9: =Расчеты!J13 -> 5000 | D9: =Расчеты!K13 -> 5065.15 | E9: =Расчеты!L13 -> 5131.1489 | F9: =Расчеты!M13 -> 5198.0078 | G9: =Расчеты!N13 -> 10531.476 | H9: =Расчеты!O13 -> 5334.3504 | I9: =Расчеты!P13 -> 5403.857 | J9: =Расчеты!Q13 -> 8211.4038 | ... N9: =Расчеты!U13 -> 11530.427 | O9: =SUM(C9:N9) -> 78260.336
L11: СОГЛАСОВАНО
L13: ______________________ /
L15: ______________________ /
L17: ______________________ /

Sheet ОПУ 1 год
K1: УТВЕРЖДАЮ | N1: _______________________
N2: дата
A3: Отчет о прибылях и убытках
N4: тыс. руб.
A5: Статья | B5: 46023 | C5: 46054 | D5: 46082 | E5: 46113 | F5: 46143 | G5: 46174 | H5: 46204 | I5: 46235 | J5: 46266 | K5: 46296 | L5: 46327 | M5: 46357 | N5: Итого 2026
A6: Выручка | B6: =Расчеты!J18 -> 208.33333 | C6: =Расчеты!K18 -> 211.04792 | D6: =Расчеты!L18 -> 213.79787 | E6: =Расчеты!M18 -> 216.58366 | F6: =Расчеты!N18 -> 438.81148 | G6: =Расчеты!O18 -> 222.2646 | H6: =Расчеты!P18 -> 225.16071 | I6: =Расчеты!Q18 -> 342.14183 | ... M6: =Расчеты!U18 -> 480.43444 | N6: =SUM(B6:M6) -> 3260.8473
A7: Переменные расходы | B7: =Расчеты!J19 -> -69.390625 | C7: =Расчеты!K19 -> -70.084531 | D7: =Расчеты!L19 -> -70.785377 | E7: =Расчеты!M19 -> -71.49323 | F7: =Расчеты!N19 -> -144.41633 | G7: =Расчеты!O19 -> -72.930244 | H7: =Расчеты!P19 -> -73.659547 | I7: =Расчеты!Q19 -> -111.59421 | ... M7: =Расчеты!U19 -> -154.83385 | N7: =SUM(B7:M7) -> -1066.87
A8: Валовая прибыль | B8: =Расчеты!J25 -> 138.94271 | C8: =Расчеты!K25 -> 140.96339 | D8: =Расчеты!L25 -> 143.01249 | E8: =Расчеты!M25 -> 145.09043 | F8: =Расчеты!N25 -> 294.39516 | G8: =Расчеты!O25 -> 149.33435 | H8: =Расчеты!P25 -> 151.50116 | I8: =Расчеты!Q25 -> 230.54761 | ... M8: =Расчеты!U25 -> 325.60059 | N8: =SUM(B8:M8) -> 2193.9774
A9: Постоянные расходы | B9: =Расчеты!J26 -> -117.25862 | C9: =Расчеты!K26 -> -117.25862 | D9: =Расчеты!L26 -> -117.25862 | E9: =Расчеты!M26 -> -117.25862 | F9: =Расчеты!N26 -> -117.25862 | G9: =Расчеты!O26 -> -117.25862 | H9: =Расчеты!P26 -> -117.25862 | I9: =Расчеты!Q26 -> -117.25862 | ... M9: =Расчеты!U26 -> -117.25862 | N9: =SUM(B9:M9) -> -1407.1034
A10: EBITDA | B10: =Расчеты!J30 -> 21.684088 | C10: =Расчеты!K30 -> 23.704765 | D10: =Расчеты!L30 -> 25.753874 | E10: =Расчеты!M30 -> 27.831806 | F10: =Расчеты!N30 -> 177.13654 | G10: =Расчеты!O30 -> 32.075734 | H10: =Расчеты!P30 -> 34.242539 | I10: =Расчеты!Q30 -> 113.28899 | ... M10: =Расчеты!U30 -> 208.34197 | N10: =SUM(B10:M10) -> 786.87391
A11: Амортизация | B11: =Расчеты!J31 -> -15 | C11: =Расчеты!K31 -> -15 | D11: =Расчеты!L31 -> -15 | E11: =Расчеты!M31 -> -15 | F11: =Расчеты!N31 -> -15 | G11: =Расчеты!O31 -> -15 | H11: =Расчеты!P31 -> -15 | I11: =Расчеты!Q31 -> -15 | ... M11: =Расчеты!U31 -> -15 | N11: =SUM(B11:M11) -> -180
A12: EBIT / Прибыль до налогообложения | B12: =Расчеты!J32 -> 6.6840876 | C12: =Расчеты!K32 -> 8.7047647 | D12: =Расчеты!L32 -> 10.753874 | E12: =Расчеты!M32 -> 12.831806 | F12: =Расчеты!N32 -> 162.13654 | G12: =Расчеты!O32 -> 17.075734 | H12: =Расчеты!P32 -> 19.242539 | I12: =Расчеты!Q32 -> 98.288992 | ... M12: =Расчеты!U32 -> 193.34197 | N12: =SUM(B12:M12) -> 606.87391
A13: Налог на прибыль | B13: =Расчеты!J33 -> 0 | C13: =Расчеты!K33 -> 0 | D13: =Расчеты!L33 -> 0 | E13: =Расчеты!M33 -> 0 | F13: =Расчеты!N33 -> -10.222214 | G13: =Расчеты!O33 -> -3.4151468 | H13: =Расчеты!P33 -> -3.8485079 | I13: =Расчеты!Q33 -> -19.657798 | ... M13: =Расчеты!U33 -> -38.668394 | N13: =SUM(B13:M13) -> -91.374783
A14: Чистая прибыль | B14: =Расчеты!J34 -> 6.6840876 | C14: =Расчеты!K34 -> 8.7047647 | D14: =Расчеты!L34 -> 10.753874 | E14: =Расчеты!M34 -> 12.831806 | F14: =Расчеты!N34 -> 151.91432 | G14: =Расчеты!O34 -> 13.660587 | H14: =Расчеты!P34 -> 15.394032 | I14: =Расчеты!Q34 -> 78.631194 | ... M14: =Расчеты!U34 -> 154.67358 | N14: =SUM(B14:M14) -> 515.49913
K16: СОГЛАСОВАНО
K18: ______________________ /
K20: ______________________ /
K22: ______________________ /

Sheet Объемы и ОПУ по годам
A1: Объёмные показатели
A2: Статья | B2: ед. изм. | C2: 2026 | D2: 2027 | E2: 2028
A3: Количество | B3: шт. | C3: =SUM(Расчеты!J7:U7) -> 768.74215 | D3: =SUM(Расчеты!V7:AG7) -> 866.2379 | E3: =SUM(Расчеты!AH7:AS7) -> 976.09855
A5: Средний чек | B5: тыс. руб. | C5: =C7/C3 -> 101.8031 | D5: =D7/D3 -> 105.52909 | E5: =E7/E3 -> 109.39146
A7: Объем продаж с учетом НДС | B7: тыс. руб. | C7: =SUM(Расчеты!J13:U13) -> 78260.336 | D7: =SUM(Расчеты!V13:AG13) -> 91413.3 | E7: =SUM(Расчеты!AH13:AS13) -> 106776.84
A9: Отчет о прибылях и убытках | E9: тыс. руб.
A10: Статья | C10: 2026 | D10: 2027 | E10: 2028
A11: Выручка | C11: =SUM(Расчеты!J18:U18) -> 3260.8473 | D11: =SUM(Расчеты!V18:AG18) -> 3808.8875 | E11: =SUM(Расчеты!AH18:AS18) -> 4449.0351
A12: Переменные расходы | C12: =SUM(Расчеты!J19:U19) -> -1066.87 | D12: =SUM(Расчеты!V19:AG19) -> -1262.068 | E12: =SUM(Расчеты!AH19:AS19) -> -1492.9923
A13: Расходы на печать флаеров без учета НДС | C13: =SUM(Расчеты!J20:U20) -> -600.57981 | D13: =SUM(Расчеты!V20:AG20) -> -710.58578 | E13: =SUM(Расчеты!AH20:AS20) -> -840.74113
A14: Расходы на распространение флаеров | C14: =SUM(Расчеты!J21:U21) -> -384.37108 | D14: =SUM(Расчеты!V21:AG21) -> -454.7749 | E14: =SUM(Расчеты!AH21:AS21) -> -538.07432
A15: Расходы на звонки без учета НДС | C15: =SUM(Расчеты!J22:U22) -> -78.075375 | D15: =SUM(Расчеты!V22:AG22) -> -92.376151 | E15: =SUM(Расчеты!AH22:AS22) -> -109.29635
A16: Расход бумаги | C16: =SUM(Расчеты!J23:U23) -> -1.9218554 | D16: =SUM(Расчеты!V23:AG23) -> -2.1655947 | E16: =SUM(Расчеты!AH23:AS23) -> -2.4402464
A17: Расход краски без учета НДС | C17: =SUM(Расчеты!J24:U24) -> -1.9218554 | D17: =SUM(Расчеты!V24:AG24) -> -2.1655947 | E17: =SUM(Расчеты!AH24:AS24) -> -2.4402464
A18: Валовая прибыль | C18: =SUM(Расчеты!J25:U25) -> 2193.9774 | D18: =SUM(Расчеты!V25:AG25) -> 2546.8195 | E18: =SUM(Расчеты!AH25:AS25) -> 2956.0428
A19: Постоянные расходы | C19: =SUM(Расчеты!J26:U26) -> -1407.1034 | D19: =SUM(Расчеты!V26:AG26) -> -1414.6034 | E19: =SUM(Расчеты!AH26:AS26) -> -1422.4784
A20: ФОТ, включая налоги | C20: =SUM(Расчеты!J27:U27) -> -1257.1034 | D20: =SUM(Расчеты!V27:AG27) -> -1257.1034 | E20: =SUM(Расчеты!AH27:AS27) -> -1257.1034
A21: Доступ к системе поиска туров без учета НДС | C21: =SUM(Расчеты!J28:U28) -> -100 | D21: =SUM(Расчеты!V28:AG28) -> -105 | E21: =SUM(Расчеты!AH28:AS28) -> -110.25
A22: Аренда офиса без учета НДС | C22: =SUM(Расчеты!J29:U29) -> -50 | D22: =SUM(Расчеты!V29:AG29) -> -52.5 | E22: =SUM(Расчеты!AH29:AS29) -> -55.125
... A27: Чистая прибыль | C27: =SUM(Расчеты!J34:U34) -> 515.49913 | D27: =SUM(Расчеты!V34:AG34) -> 761.77285 | E27: =SUM(Расчеты!AH34:AS34) -> 1082.8515

Sheet Баланс по годам
A1: Баланс | E1: тыс. руб.
A2: Статья | B2: 2025 | C2: 2026 | D2: 2027 | E2: 2028
A3: Активы | B3: =Расчеты!I154 -> 350 | C3: =Расчеты!U154 -> 1365.4991 | D3: =Расчеты!AG154 -> 2127.272 | E3: =Расчеты!AS154 -> 3210.1234
A4: Внеоборотные активы | B4: =Расчеты!I155 -> 180 | C4: =Расчеты!U155 -> 0 | D4: =Расчеты!AG155 -> 180 | E4: =Расчеты!AS155 -> 0
A5: Основные средства | B5: =Расчеты!I156 -> 180 | C5: =Расчеты!U156 -> 0 | D5: =Расчеты!AG156 -> 180 | E5: =Расчеты!AS156 -> 0
A6: Оборотные активы | B6: =Расчеты!I157 -> 170 | C6: =Расчеты!U157 -> 1365.4991 | D6: =Расчеты!AG157 -> 1947.272 | E6: =Расчеты!AS157 -> 3210.1234
A7: Запасы | B7: =Расчеты!I158 -> 0 | C7: =Расчеты!U158 -> 0 | D7: =Расчеты!AG158 -> 0 | E7: =Расчеты!AS158 -> 0
A8: Дебиторская задолженность | B8: =Расчеты!I159 -> 0 | C8: =Расчеты!U159 -> 0 | D8: =Расчеты!AG159 -> 0 | E8: =Расчеты!AS159 -> 0
A9: Денежные средства | B9: =Расчеты!I160 -> 170 | C9: =Расчеты!U160 -> 1365.4991 | D9: =Расчеты!AG160 -> 1947.272 | E9: =Расчеты!AS160 -> 3210.1234
A11: Пассивы | B11: =Расчеты!I162 -> 350 | C11: =Расчеты!U162 -> 1365.4991 | D11: =Расчеты!AG162 -> 2127.272 | E11: =Расчеты!AS162 -> 3210.1234
A12: Капитал и резервы | B12: =Расчеты!I163 -> -50 | C12: =Расчеты!U163 -> 1165.4991 | D12: =Расчеты!AG163 -> 1927.272 | E12: =Расчеты!AS163 -> 3010.1234
A13: Уставный капитал | B13: =Расчеты!I164 -> 100 | C13: =Расчеты!U164 -> 800 | D13: =Расчеты!AG164 -> 800 | E13: =Расчеты!AS164 -> 800
A14: Нераспределенная прибыль | B14: =Расчеты!I165 -> -150 | C14: =Расчеты!U165 -> 365.49913 | D14: =Расчеты!AG165 -> 1127.272 | E14: =Расчеты!AS165 -> 2210.1234
A15: Долгосрочные обязательства | B15: =Расчеты!I166 -> 0 | C15: =Расчеты!U166 -> 0 | D15: =Расчеты!AG166 -> 0 | E15: =Расчеты!AS166 -> 0
... A19: Кредиторская задолженность | B19: =Расчеты!I170 -> 200 | C19: =Расчеты!U170 -> 200 | D19: =Расчеты!AG170 -> 200 | E19: =Расчеты!AS170 -> 200

Sheet Графические отчеты
C1: 46023 | D1: 46054 | E1: 46082 | F1: 46113 | G1: 46143 | H1: 46174 | I1: 46204 | J1: 46235 | K1: 46266 | L1: 46296 | M1: 46327 | N1: 46357
A2: Количество продаж без учета сезонности | B2: шт. | C2: =Расчеты!J3 -> 50 | D2: =Расчеты!K3 -> 50.5 | E2: =Расчеты!L3 -> 51.005 | F2: =Расчеты!M3 -> 51.51505 | G2: =Расчеты!N3 -> 52.0302 | H2: =Расчеты!O3 -> 52.550503 | I2: =Расчеты!P3 -> 53.076008 | J2: =Расчеты!Q3 -> 53.606768 | ... N2: =Расчеты!U3 -> 55.783417
A3: Количество продаж с учетом сезонности | B3: шт. | C3: =Расчеты!J7 -> 50 | D3: =Расчеты!K7 -> 50.5 | E3: =Расчеты!L7 -> 51.005 | F3: =Расчеты!M7 -> 51.51505 | G3: =Расчеты!N7 -> 104.0604 | H3: =Расчеты!O7 -> 52.550503 | I3: =Расчеты!P7 -> 53.076008 | J3: =Расчеты!Q7 -> 80.410151 | ... N3: =Расчеты!U7 -> 111.56683
A4: Средний чек с учетом НДС | B4: руб. | C4: =Расчеты!J9 -> 100 | D4: =Расчеты!K9 -> 100.3 | E4: =Расчеты!L9 -> 100.6009 | F4: =Расчеты!M9 -> 100.9027 | G4: =Расчеты!N9 -> 101.20541 | H4: =Расчеты!O9 -> 101.50903 | I4: =Расчеты!P9 -> 101.81355 | J4: =Расчеты!Q9 -> 102.11899 | ... N4: =Расчеты!U9 -> 103.34995
C20: 46023 | D20: 46054 | E20: 46082 | F20: 46113 | G20: 46143 | H20: 46174 | I20: 46204 | J20: 46235 | K20: 46266 | L20: 46296 | M20: 46327 | N20: 46357
A21: Выручка | C21: =Расчеты!J18 -> 208.33333 | D21: =Расчеты!K18 -> 211.04792 | E21: =Расчеты!L18 -> 213.79787 | F21: =Расчеты!M18 -> 216.58366 | G21: =Расчеты!N18 -> 438.81148 | H21: =Расчеты!O18 -> 222.2646 | I21: =Расчеты!P18 -> 225.16071 | J21: =Расчеты!Q18 -> 342.14183 | ... N21: =Расчеты!U18 -> 480.43444
A22: Валовая прибыль | C22: =Расчеты!J25 -> 138.94271 | D22: =Расчеты!K25 -> 140.96339 | E22: =Расчеты!L25 -> 143.01249 | F22: =Расчеты!M25 -> 145.09043 | G22: =Расчеты!N25 -> 294.39516 | H22: =Расчеты!O25 -> 149.33435 | I22: =Расчеты!P25 -> 151.50116 | J22: =Расчеты!Q25 -> 230.54761 | ... N22: =Расчеты!U25 -> 325.60059
A23: Операционная прибыль | C23: =Расчеты!J30 -> 21.684088 | D23: =Расчеты!K30 -> 23.704765 | E23: =Расчеты!L30 -> 25.753874 | F23: =Расчеты!M30 -> 27.831806 | G23: =Расчеты!N30 -> 177.13654 | H23: =Расчеты!O30 -> 32.075734 | I23: =Расчеты!P30 -> 34.242539 | J23: =Расчеты!Q30 -> 113.28899 | ... N23: =Расчеты!U30 -> 208.34197
A24: Чистая прибыль | C24: =Расчеты!J34 -> 6.6840876 | D24: =Расчеты!K34 -> 8.7047647 | E24: =Расчеты!L34 -> 10.753874 | F24: =Расчеты!M34 -> 12.831806 | G24: =Расчеты!N34 -> 151.91432 | H24: =Расчеты!O34 -> 13.660587 | I24: =Расчеты!P34 -> 15.394032 | J24: =Расчеты!Q34 -> 78.631194 | ... N24: =Расчеты!U34 -> 154.67358
B40: 46357
A41: Основные средства | B41: ='Баланс по годам'!C5 -> 0
A42: Запасы | B42: ='Баланс по годам'!C7 -> 0
A43: Дебиторская задолженность | B43: ='Баланс по годам'!C8 -> 0
A44: Денежные средства | B44: ='Баланс по годам'!C9 -> 1365.4991
A53: Уставный капитал | B53: ='Баланс по годам'!C13 -> 800
A54: Нераспределенная прибыль | B54: ='Баланс по годам'!C14 -> 365.49913
A55: Заемные средства | B55: ='Баланс по годам'!C16 -> 0
A56: Заемные средства | B56: ='Баланс по годам'!C18 -> 0
A57: Кредиторская задолженность | B57: ='Баланс по годам'!C19 -> 200
C60: 46023 | D60: 46054 | E60: 46082 | F60: 46113 | G60: 46143 | H60: 46174 | I60: 46204 | J60: 46235 | K60: 46266 | L60: 46296 | M60: 46327 | N60: 46357
A61: Остаток денежных средств на счетах | B61: тыс. руб. | C61: =Расчеты!J194 -> 891.68409 | D61: =Расчеты!K194 -> 915.38885 | E61: =Расчеты!L194 -> 941.14273 | F61: =Расчеты!M194 -> 968.97453 | G61: =Расчеты!N194 -> 1135.8889 | H61: =Расчеты!O194 -> 1164.5494 | I61: =Расчеты!P194 -> 994.94348 | J61: =Расчеты!Q194 -> 1088.5747 | ... N61: =Расчеты!U194 -> 1365.4991
A64: Маржа от выручки за 3-й год работы (водопад) | C64: база | D64: высота
A65: Выручка | B65: ='За 3 года на одном листе'!F73 -> 1 | C65: 0 | D65: =B65 -> 1
A66: Переменные расходы | B66: ='За 3 года на одном листе'!F74 -> -0.33557665 | C66: =SUM($B$65:B65)+MIN(B66,0) -> 0.66442335 | D66: =ABS(B66) -> 0.33557665
A67: Постоянные расходы | B67: ='За 3 года на одном листе'!F81 -> -0.31972741 | C67: =SUM($B$65:B66)+MIN(B67,0) -> 0.34469594 | D67: =ABS(B67) -> 0.31972741
A68: Амортизация | B68: ='За 3 года на одном листе'!F86 -> -0.040458211 | C68: =SUM($B$65:B67)+MIN(B68,0) -> 0.30423773 | D68: =ABS(B68) -> 0.040458211
A69: Налог на прибыль | B69: ='За 3 года на одном листе'!F88 -> -0.060847546 | C69: =SUM($B$65:B68)+MIN(B69,0) -> 0.24339018 | D69: =ABS(B69) -> 0.060847546
A70: Чистая прибыль | B70: =-'За 3 года на одном листе'!F89 -> -0.24339018 | C70: 0 | D70: =ABS(B70) -> 0.24339018 | G70: ='За 3 года на одном листе'!F89 -> 0.24339018

Sheet Инвестиционный анализ
A1: Инвестиционный анализ проекта «Альфа»
A3: Отчет о движении денежных средств по месяцам (лист «Расчеты») | B3: тыс. руб.
A4: Период (t), мес. | C4: 0 | D4: 1 | E4: 2 | F4: 3 | G4: 4 | H4: 5 | I4: 6 | J4: 7 | K4: 8 | L4: 9 | M4: 10 | N4: 11 | O4: 12 | P4: 13 | Q4: 14 | R4: 15 | S4: 16 | T4: 17 | U4: 18 | V4: 19 | W4: 20 | X4: 21 | Y4: 22 | Z4: 23 | AA4: 24 | AB4: 25 | AC4: 26 | AD4: 27 | AE4: 28 | AF4: 29 | AG4: 30 | AH4: 31 | AI4: 32 | AJ4: 33 | AK4: 34 | AL4: 35 | AM4: 36
A5: Месяц | C5: =Расчеты!I1 -> 45992 | D5: =Расчеты!J1 -> 46023 | E5: =Расчеты!K1 -> 46054 | F5: =Расчеты!L1 -> 46082 | G5: =Расчеты!M1 -> 46113 | H5: =Расчеты!N1 -> 46143 | I5: =Расчеты!O1 -> 46174 | J5: =Расчеты!P1 -> 46204 | ... AM5: =Расчеты!AS1 -> 47088
A6: Чистое движение средств от операционной деятельности | C6: =Расчеты!I181 -> 0 | D6: =Расчеты!J181 -> 21.684088 | E6: =Расчеты!K181 -> 23.704765 | F6: =Расчеты!L181 -> 25.753874 | G6: =Расчеты!M181 -> 27.831806 | H6: =Расчеты!N181 -> 166.91432 | I6: =Расчеты!O181 -> 28.660587 | J6: =Расчеты!P181 -> 30.394032 | ... AM6: =Расчеты!AS181 -> 259.22297
A7: Чистое движение средств от инвестиционной деятельности | C7: =Расчеты!I185 -> 0 | D7: =Расчеты!J185 -> 0 | E7: =Расчеты!K185 -> 0 | F7: =Расчеты!L185 -> 0 | G7: =Расчеты!M185 -> 0 | H7: =Расчеты!N185 -> 0 | I7: =Расчеты!O185 -> 0 | J7: =Расчеты!P185 -> 0 | ... AM7: =Расчеты!AS185 -> 0
A8: Привлечение/погашение кредитов | C8: =Расчеты!I189 -> 0 | D8: =Расчеты!J189 -> 0 | E8: =Расчеты!K189 -> 0 | F8: =Расчеты!L189 -> 0 | G8: =Расчеты!M189 -> 0 | H8: =Расчеты!N189 -> 0 | I8: =Расчеты!O189 -> 0 | J8: =Расчеты!P189 -> -200 | ... AM8: =Расчеты!AS189 -> 0
A9: Привлечение капитала (взносы акционера в уставный капитал) | C9: =Расчеты!I164 -> 100 | D9: =Расчеты!J188 -> 700 | E9: =Расчеты!K188 -> 0 | F9: =Расчеты!L188 -> 0 | G9: =Расчеты!M188 -> 0 | H9: =Расчеты!N188 -> 0 | I9: =Расчеты!O188 -> 0 | J9: =Расчеты!P188 -> 0 | K9: =Расчеты!Q188 -> 0 | ... AM9: =Расчеты!AS188 -> 0
A12: Оценка инвестиционной привлекательности проекта
A13: Потоки по инвестиционному проекту для акционера будут: | C13: =C6+C7+C8 -> 0 | D13: =D6+D7+D8 -> 21.684088 | E13: =E6+E7+E8 -> 23.704765 | F13: =F6+F7+F8 -> 25.753874 | G13: =G6+G7+G8 -> 27.831806 | H13: =H6+H7+H8 -> 166.91432 | I13: =I6+I7+I8 -> 28.660587 | J13: =J6+J7+J8 -> -169.60597 | ... AM13: =AM6+AM7+AM8 -> 259.22297
A14: Взносы акционера в уставный капитал (вложения самого акционера) | C14: =-C9 -> -100 | D14: =-D9 -> -700 | E14: =-E9 -> 0 | F14: =-F9 -> 0 | G14: =-G9 -> 0 | H14: =-H9 -> 0 | I14: =-I9 -> 0 | J14: =-J9 -> 0 | ... AM14: =-AM9 -> 0
A15: Итого денежный поток для акционера | C15: =C13+C14 -> -100 | D15: =D13+D14 -> -678.31591 | E15: =E13+E14 -> 23.704765 | F15: =F13+F14 -> 25.753874 | G15: =G13+G14 -> 27.831806 | H15: =H13+H14 -> 166.91432 | I15: =I13+I14 -> 28.660587 | J15: =J13+J14 -> -169.60597 | ... AM15: =AM13+AM14 -> 259.22297
A16: Дисконтированные потоки | C16: =C15/(1+$B$23)^C$4 -> -100 | D16: =D15/(1+$B$23)^D$4 -> -670.14848 | E16: =E15/(1+$B$23)^E$4 -> 23.137355 | F16: =F15/(1+$B$23)^F$4 -> 24.834742 | G16: =G15/(1+$B$23)^G$4 -> 26.515359 | H16: =H15/(1+$B$23)^H$4 -> 157.10455 | I16: =I15/(1+$B$23)^I$4 -> 26.651353 | J16: =J15/(1+$B$23)^J$4 -> -155.81682 | ... AM16: =AM15/(1+$B$23)^AM$4 -> 167.60176
A18: Расчет ставки дисконтирования по модели Шарпа (CAPM):
A19: безрисковая ставка (Rf) | B19: 0.015
A20: коэффициент бета (β) | B20: 1.25
A21: доходность рынка (Rm) | B21: 0.12
A22: Ставка дисконтирования, годовая = Rf + β × (Rm − Rf) | B22: =B19+B20*(B21-B19) -> 0.14625
A23: Ставка дисконтирования, месячная = годовая / 12 | B23: =B22/12 -> 0.0121875
A25: Кумулятивный недисконтированный денежный поток | C25: =C15 -> -100 | D25: =C25+D15 -> -778.31591 | E25: =D25+E15 -> -754.61115 | F25: =E25+F15 -> -728.85727 | G25: =F25+G15 -> -701.02547 | H25: =G25+H15 -> -534.11114 | I25: =H25+I15 -> -505.45056 | J25: =I25+J15 -> -675.05652 | K25: =J25+K15 -> -581.42533 | ... AM25: =AL25+AM15 -> 1540.1234
A26: Кумулятивный дисконтированный денежный поток | C26: =C16 -> -100 | D26: =C26+D16 -> -770.14848 | E26: =D26+E16 -> -747.01112 | F26: =E26+F16 -> -722.17638 | G26: =F26+G16 -> -695.66102 | H26: =G26+H16 -> -538.55647 | I26: =H26+I16 -> -511.90512 | J26: =I26+J16 -> -667.72194 | K26: =J26+K16 -> -582.7388 | ... AM26: =AL26+AM16 -> 958.526
A28: Чистая приведенная стоимость (NPV), тыс. руб. | B28: =C15+NPV($B$23,D15:AM15) -> 958.526
A29: Внутренняя норма доходности (IRR), % в месяц | B29: =IRR(C15:AM15) -> 0.052071612
A30: Внутренняя норма доходности (IRR), % годовых (месячная × 12) | B30: =B29*12 -> 0.62485934
A31: Индекс доходности (PI) | B31: =SUMIF($C$16:$AM$16,">0")/-SUMIF($C$16:$AM$16,"<0") -> 1.7979054
A32: Срок окупаемости недисконтированный, мес. и лет | B32: =COUNTIF($C$25:$AM$25,"<0")-1+(-INDEX($C$25:$AM$25,COUNTIF($C$25:$AM$25,"<0")))/INDEX($C$15:$AM$15,COUNTIF($C$25:$AM$25,"<0")+1) -> 21.848443 | C32: =B32/12 -> 1.8207036
A33: Срок окупаемости дисконтированный, мес. и лет | B33: =COUNTIF($C$26:$AM$26,"<0")-1+(-INDEX($C$26:$AM$26,COUNTIF($C$26:$AM$26,"<0")))/INDEX($C$16:$AM$16,COUNTIF($C$26:$AM$26,"<0")+1) -> 23.39874 | C33: =B33/12 -> 1.949895
A35: Покупка готового бизнеса: модифицированная норма доходности (MIRR)
A37: Цена покупки бизнеса в декабре 2025, тыс. руб. | B37: -1000
A38: Ставка финансирования, годовая и месячная (/12) | B38: 0.12 | C38: =B38/12 -> 0.01
A39: Ставка реинвестирования, годовая и месячная (/12) | B39: 0.1 | C39: =B39/12 -> 0.0083333333
A40: Денежный поток сценария покупки бизнеса | C40: =$B$37 -> -1000 | D40: =D13 -> 21.684088 | E40: =E13 -> 23.704765 | F40: =F13 -> 25.753874 | G40: =G13 -> 27.831806 | H40: =H13 -> 166.91432 | I40: =I13 -> 28.660587 | J40: =J13 -> -169.60597 | K40: =K13 -> 93.631194 | ... AM40: =AM13 -> 259.22297
A41: Модифицированная внутренняя норма доходности (MIRR), % в месяц | B41: =MIRR(C40:AM40,$C$38,$C$39) -> 0.02229075
A42: Модифицированная внутренняя норма доходности (MIRR), % годовых (× 12) | B42: =B41*12 -> 0.26748901
A43: Справочно: IRR сценария покупки, % годовых | B43: =IRR(C40:AM40)*12 -> 0.45733131
A44: Справочно: NPV сценария покупки по ставке Шарпа, тыс. руб. | B44: =C40+NPV($B$23,D40:AM40) -> 750.09747
A46: Проверки
A47: NPV как сумма дисконтированных потоков (строка 16) | B47: =SUM(C16:AM16) -> 958.526 | C47: =B47-B28 -> 0
A48: Наращенная стоимость положительных потоков (ставка реинвестирования) | B48: =SUMPRODUCT((C40:AM40>0)*C40:AM40*(1+$C$39)^(36-$C$4:$AM$4)) -> 3187.5708
A49: Приведённая стоимость отрицательных потоков (ставка финансирования) | B49: =SUMPRODUCT((C40:AM40<0)*C40:AM40/(1+$C$38)^($C$4:$AM$4)) -> -1441.3861
...
